BEGIN:VCALENDAR
VERSION:2.0
PRODID:-//ChamberMaster//Event Calendar 2.0//EN
METHOD:PUBLISH
X-PUBLISHED-TTL:P3D
REFRESH-INTERVAL:P3D
CALSCALE:GREGORIAN
BEGIN:VEVENT
DTSTART:20251206T170000Z
DTEND:20251206T180000Z
X-MICROSOFT-CDO-ALLDAYEVENT:FALSE
SUMMARY:Young Professionals Shop & Social at Brewnuts
DESCRIPTION:Celebrate the holiday season in the Gordon Square Arts district! Meet up with Plexus Young Professional members and friends at Brewnuts\, a local queer-friendly bar located at the corner of W. 65th and Detroit Avenue. Grab a drink and a donut for a little bit of socializing before walking down to the LGBT Center of Greater Cleveland for this year's Queer the Halls\, the perfect opportunity to begin your holiday shopping by supporting local creative business owners.
X-ALT-DESC;FMTTYPE=text/html:<span style="color:#696969\;"><strong><span style="font-family:verdana\;"><span style="font-size:14px\;">Celebrate the holiday season in the Gordon Square Arts district! Meet up with Plexus Young Professional members and friends at Brewnuts\, a local queer-friendly bar located at the corner of W. 65th and Detroit Avenue. Grab a drink and a donut for a little bit of socializing before walking down to the LGBT Center of Greater Cleveland for this year&#39\;s Queer the Halls\, the perfect opportunity to begin your holiday shopping by supporting local creative business owners.</span></span></strong></span>
LOCATION:Brewnuts 6501 Detroit Avenue\, Cleveland\, OH
UID:e.2195.8294
SEQUENCE:3
DTSTAMP:20260424T210036Z
URL:https://business.thinkplexus.org/events/details/young-professionals-shop-social-at-brewnuts-8294
END:VEVENT

END:VCALENDAR
