BEGIN:VCALENDAR
VERSION:2.0
PRODID:-//ChamberMaster//Event Calendar 2.0//EN
METHOD:PUBLISH
X-PUBLISHED-TTL:P3D
REFRESH-INTERVAL:P3D
CALSCALE:GREGORIAN
BEGIN:VEVENT
DTSTART:20250117T220000Z
DTEND:20250118T020000Z
X-MICROSOFT-CDO-ALLDAYEVENT:FALSE
SUMMARY:Wovensmart Open House & Art Opening
DESCRIPTION:Celebrate creativity and community at the Wovensmart Art Opening! Experience a captivating showcase of artwork from talented local and emerging artists\, each piece telling a unique story and inspiring connection. Enjoy an evening of visual exploration\, light refreshments\, and engaging conversations with artists and art enthusiasts alike.
X-ALT-DESC;FMTTYPE=text/html:<p helvetica="" neue=""><span style="color:#696969\;"><strong><span style="font-family:verdana\;"><span style="font-size:14px\;">Celebrate creativity and community at the Wovensmart&nbsp\;Art Opening! Experience a captivating showcase of artwork from talented local and emerging artists\, each piece telling a unique story and inspiring connection. Enjoy an evening of visual exploration\, light refreshments\, and engaging conversations with artists and art enthusiasts alike.</span></span></strong></span></p>\n
LOCATION:Wovensmart 15620 Detroit Avenue\, Suite 110 Lakewood\, Ohio 44107
UID:e.2195.6658
SEQUENCE:3
DTSTAMP:20260419T124430Z
URL:https://business.thinkplexus.org/events/details/wovensmart-open-house-art-opening-6658
END:VEVENT

END:VCALENDAR
