BEGIN:VCALENDAR
VERSION:2.0
PRODID:-//ChamberMaster//Event Calendar 2.0//EN
METHOD:PUBLISH
X-PUBLISHED-TTL:P3D
REFRESH-INTERVAL:P3D
CALSCALE:GREGORIAN
BEGIN:VEVENT
DTSTART:20210621T123000Z
DTEND:20210621T143000Z
X-MICROSOFT-CDO-ALLDAYEVENT:FALSE
SUMMARY:What’s Next?! An Intensive Summer Fundraising Planning Circle
DESCRIPTION:Do you know what will happen next in your organization? Join fellow Northeast Ohio development officers and executive staff from regional nonprofits as we meet for this bi-weekly series from Candid in partnership with the Association of Fundraising Professionals Greater Cleveland. Each highly interactive virtual session will include facilitated learning from experts and funders in the nonprofit world\, discussions with peers and changemakers in the field\, and resources for addressing the unknowns of the upcoming months. Featured panelists include representatives from The Cleveland Foundation\, Cuyahoga Arts and Culture\, Metro Health Institute for H.O.P.E.\, Sangfroid Strategy\, Grants Plus\, Equius Group\, Plexus LGBT + Allied Chamber of Commerce\, The Center for Community Solutions\, and many more!\n\nRegister for the whole series\, or individual sessions.  Registration is discounted for AFP Members. \n\nFind out more and register here:\n\nhttps://afpcleveland.org/event-information/whats-next/
X-ALT-DESC;FMTTYPE=text/html:<p><span style="font-size:14px\;"><span style="font-family:tahoma\;">Do you know what will happen next in your organization? Join fellow Northeast Ohio development officers and executive staff from regional nonprofits as we meet for this bi-weekly series<em><span style="font-variant:inherit\;font-weight:inherit\;font-stretch:inherit\;"><span style="border:none windowtext 1.0pt\;padding:0in\;font-style:normal\;">&nbsp\;from&nbsp\;</span></span></em><em><span style="font-style:inherit\;font-variant:inherit\;font-weight:inherit\;font-stretch:inherit\;"><span style="border:none windowtext 1.0pt\;padding:0in\;"><a data-auth="Verified" data-linkindex="1" href="https://nam02.safelinks.protection.outlook.com/?url=http%3A%2F%2Fwww.candid.org%2F&amp\;data=04%7C01%7Cacole%40thinkplexus.org%7C2cc798261ba04351991b08d91a2b9dfd%7C1a12925221cd41ce8979185a495a1895%7C0%7C0%7C637569596920950266%7CUnknown%7CTWFpbGZsb3d8eyJWIjoiMC4wLjAwMDAiLCJQIjoiV2luMzIiLCJBTiI6Ik1haWwiLCJXVCI6Mn0%3D%7C1000&amp\;sdata=KqZdCqPL%2BTWfTr%2FVnlSbeaKDwf8q20nbHezW0IrMt6g%3D&amp\;reserved=0" target="_blank" title="Original URL: http://www.candid.org/. Click or tap if you trust this link."><span style="font-style:normal\;"><span style="font-variant:inherit\;font-weight:inherit\;font-stretch:inherit\;">Candi</span><span style="font-style:normal\;">d</span></span></a></span></span></em><em><span style="font-variant:inherit\;font-weight:inherit\;font-stretch:inherit\;"><span style="border:none windowtext 1.0pt\;padding:0in\;font-style:normal\;">&nbsp\;in partnership with the&nbsp\;</span></span></em><em><span style="font-style:inherit\;font-variant:inherit\;font-weight:inherit\;font-stretch:inherit\;"><span style="border:none windowtext 1.0pt\;padding:0in\;"><a data-auth="Verified" data-linkindex="2" href="https://nam02.safelinks.protection.outlook.com/?url=https%3A%2F%2Fafpcleveland.org%2F&amp\;data=04%7C01%7Cacole%40thinkplexus.org%7C2cc798261ba04351991b08d91a2b9dfd%7C1a12925221cd41ce8979185a495a1895%7C0%7C0%7C637569596920960225%7CUnknown%7CTWFpbGZsb3d8eyJWIjoiMC4wLjAwMDAiLCJQIjoiV2luMzIiLCJBTiI6Ik1haWwiLCJXVCI6Mn0%3D%7C1000&amp\;sdata=jrFVyVr1ARz47085RWCtggVTUKc5QUOtRhj7nOvg3Zo%3D&amp\;reserved=0" target="_blank" title="Original URL: https://afpcleveland.org/. Click or tap if you trust this link."><span style="font-style:normal\;"><span style="font-variant:inherit\;font-weight:inherit\;font-stretch:inherit\;">Association of Fundraising Professionals Greater Clevelan</span><span style="font-style:normal\;">d</span></span>.</a></span></span></em>&nbsp\;Each highly interactive virtual session will include facilitated learning from experts and funders in the nonprofit world\, discussions with peers and changemakers in the field\, and resources for addressing the unknowns of the upcoming months. Featured panelists include representatives from The Cleveland Foundation\, Cuyahoga Arts and Culture\, Metro Health Institute for H.O.P.E.\, Sangfroid Strategy\, Grants Plus\, Equius Group\,&nbsp\;<span style="border:none windowtext 1.0pt\;padding:0in\;">Plexus LGBT + Allied Chamber of Commerce</span>\, The Center for Community Solutions\, and many more!<br />\nRegister for the whole series\, or individual sessions.&nbsp\; Registration is discounted for AFP Members.&nbsp\;<br />\nFind out more and register here:<br />\n<a data-auth="Verified" data-linkindex="3" href="https://nam02.safelinks.protection.outlook.com/?url=https%3A%2F%2Fafpcleveland.org%2Fevent-information%2Fwhats-next%2F&amp\;data=04%7C01%7Cacole%40thinkplexus.org%7C2cc798261ba04351991b08d91a2b9dfd%7C1a12925221cd41ce8979185a495a1895%7C0%7C0%7C637569596920960225%7CUnknown%7CTWFpbGZsb3d8eyJWIjoiMC4wLjAwMDAiLCJQIjoiV2luMzIiLCJBTiI6Ik1haWwiLCJXVCI6Mn0%3D%7C1000&amp\;sdata=grAISqqaDRPtuhODUNNVPzxQ8SbzrADqlMNq9ol7FP8%3D&amp\;reserved=0" target="_blank" title="Original URL: https://afpcleveland.org/event-information/whats-next/. Click or tap if you trust this link."><span style="border:none windowtext 1.0pt\;padding:0in\;">https://afpcleveland.org/event-information/whats-next/</span></a></span></span></p>\n
LOCATION:WEBINAR
UID:e.2195.2881
SEQUENCE:3
DTSTAMP:20260421T184835Z
URL:https://business.thinkplexus.org/events/details/what-s-next-an-intensive-summer-fundraising-planning-circle-2881
END:VEVENT

END:VCALENDAR
