BEGIN:VCALENDAR
VERSION:2.0
PRODID:-//ChamberMaster//Event Calendar 2.0//EN
METHOD:PUBLISH
X-PUBLISHED-TTL:P3D
REFRESH-INTERVAL:P3D
CALSCALE:GREGORIAN
BEGIN:VEVENT
DTSTART:20260111T180000Z
DTEND:20260111T200000Z
X-MICROSOFT-CDO-ALLDAYEVENT:FALSE
SUMMARY:Vision in Focus: Affirming Intentions for 2026
DESCRIPTION:Join the Carve Your Own Path community for our annual Holistic Vision Boarding: Guided Meditation & Affirming Intentions for 2026 workshop!\n\nThis two-hour immersive event is an affirming and inclusive way to start your new year with clarity and intention. We combine the power of a guided meditation to help you center your mind and set holistic intentions for 2026\, followed by hands-on creative vision board creation.\n\nThis is a powerful practice designed for personal growth and building a tangible roadmap for a transformative year. All supplies are provided!\n\n\n	\n	When: Sunday\, January 11th\, 2026\, 1:00 PM   3:00 PM\n	\n	\n	Where: Carve Your Own Path Office (840 Rothrock Road\, Suite 203\, Copley\, OH 44321)\n	\n	\n	Cost: $30\n	\n	\n	Ages: 10+ welcome.\n	\n\n\nProceeds from this event support Carve Your Own Path's 501(c)3 non-profit mission to provide holistic mental health services to marginalized communities\, including LGBTQIA+ individuals.
X-ALT-DESC;FMTTYPE=text/html:<p><span style="font-size:14px\;"><span style="font-family:verdana\;"><span style="color:#696969\;">Join the Carve Your Own Path community for our annual <strong>Holistic Vision Boarding: Guided Meditation &amp\; Affirming Intentions for 2026</strong> workshop!</span></span></span></p>\n\n<p><span style="font-size:14px\;"><span style="font-family:verdana\;"><span style="color:#696969\;">This two-hour immersive event is an <strong>affirming and inclusive</strong> way to start your new year with <strong>clarity and intention</strong>. We combine the power of a <strong>guided meditation</strong> to help you center your mind and set <strong>holistic intentions</strong> for 2026\, followed by hands-on creative vision board creation.</span></span></span></p>\n\n<p><span style="font-size:14px\;"><span style="font-family:verdana\;"><span style="color:#696969\;">This is a powerful practice designed for <strong>personal growth</strong> and building a tangible roadmap for a transformative year. All supplies are provided!</span></span></span></p>\n\n<ul>\n	<li>\n	<p><span style="font-size:14px\;"><span style="font-family:verdana\;"><span style="color:#696969\;"><strong>When:</strong> Sunday\, January 11th\, 2026\, 1:00 PM &ndash\; 3:00 PM</span></span></span></p>\n	</li>\n	<li>\n	<p><span style="font-size:14px\;"><span style="font-family:verdana\;"><span style="color:#696969\;"><strong>Where:</strong> Carve Your Own Path Office (840 Rothrock Road\, Suite 203\, Copley\, OH 44321)</span></span></span></p>\n	</li>\n	<li>\n	<p><span style="font-size:14px\;"><span style="font-family:verdana\;"><span style="color:#696969\;"><strong>Cost:</strong> $30</span></span></span></p>\n	</li>\n	<li>\n	<p><span style="font-size:14px\;"><span style="font-family:verdana\;"><span style="color:#696969\;"><strong>Ages:</strong> 10+ welcome.</span></span></span></p>\n	</li>\n</ul>\n\n<p><span style="font-size:14px\;"><span style="font-family:verdana\;"><span style="color:#696969\;"><strong>Proceeds from this event support Carve Your Own Path&#39\;s 501(c)3 non-profit mission to provide holistic mental health services to marginalized communities\, including LGBTQIA+ individuals.</strong></span></span></span></p>\n
LOCATION:840 Rothrock Road Suite 203 Copley\, OH 44321
UID:e.2195.8285
SEQUENCE:3
DTSTAMP:20260424T192931Z
URL:https://business.thinkplexus.org/events/details/vision-in-focus-affirming-intentions-for-2026-8285
END:VEVENT

END:VCALENDAR
