BEGIN:VCALENDAR
VERSION:2.0
PRODID:-//ChamberMaster//Event Calendar 2.0//EN
METHOD:PUBLISH
X-PUBLISHED-TTL:P3D
REFRESH-INTERVAL:P3D
CALSCALE:GREGORIAN
BEGIN:VEVENT
DTSTART:20260122T133000Z
DTEND:20260122T143000Z
X-MICROSOFT-CDO-ALLDAYEVENT:FALSE
SUMMARY:Virtual Speed Networking
DESCRIPTION:You're invited to attend a networking event with other Collaborative Chambers Alliance Members. Enjoy small-group networking with people from 21 different local chambers while making new contacts! Prepare your 30-second pitch\, grab a cup of coffee\, and come join the Collaborative Chambers Alliance!\n\n\nIf you have any questions\, contact Nicky Sulandari at 440-502-9506 or collaborativechambers@gmail.com
X-ALT-DESC;FMTTYPE=text/html:<p><span style="color:#696969\;"><span style="font-size:14px\;"><span style="font-family:verdana\;"><strong>You&#39\;re invited to attend a networking event with other Collaborative Chambers Alliance Members. Enjoy small-group networking with people from 21 different local chambers while making new contacts! Prepare your 30-second pitch\, grab a cup of coffee\, and come join the Collaborative Chambers Alliance!</strong></span></span></span></p>\n\n<hr />\n<h3><span style="font-size:14px\;"><span style="color:#696969\;">If you have any questions\, contact Nicky Sulandari at 440-502-9506 or collaborativechambers@gmail.com</span></span></h3>\n
LOCATION:Virtual
UID:e.2195.8337
SEQUENCE:3
DTSTAMP:20260424T174449Z
URL:https://business.thinkplexus.org/events/details/virtual-speed-networking-8337
END:VEVENT

END:VCALENDAR
