BEGIN:VCALENDAR
VERSION:2.0
PRODID:-//ChamberMaster//Event Calendar 2.0//EN
METHOD:PUBLISH
X-PUBLISHED-TTL:P3D
REFRESH-INTERVAL:P3D
CALSCALE:GREGORIAN
BEGIN:VEVENT
DTSTART:20260530T160000Z
DTEND:20260530T210000Z
X-MICROSOFT-CDO-ALLDAYEVENT:FALSE
SUMMARY:Vibe and Thrive Health Event
DESCRIPTION:MQA is putting on a health event to make physical and mental health a priority for our community. Join us as we host medical professionals\, mental health professionals\, and feature restaurants that are all about healthy food. We also have activities such as line dancing\, strength training\, and yoga to get you active and keep you engaged throughout the day.
X-ALT-DESC;FMTTYPE=text/html:<span style="font-size:14px\;"><span style="font-family:verdana\;"><span style="color:#696969\;"><strong>MQA is putting on a health event to make physical and mental health a priority for our community. Join us as we host medical professionals\, mental health professionals\, and feature restaurants that are all about healthy food. We also have activities such as line dancing\, strength training\, and yoga to get you active and keep you engaged throughout the day.</strong></span></span></span>
LOCATION:Treelawn Social Club 15335 Waterloo Rd\, Cleveland\, OH 44110
UID:e.2195.8463
SEQUENCE:3
DTSTAMP:20260423T141342Z
URL:https://business.thinkplexus.org/events/details/vibe-and-thrive-health-event-8463
END:VEVENT

END:VCALENDAR
