BEGIN:VCALENDAR
VERSION:2.0
PRODID:-//ChamberMaster//Event Calendar 2.0//EN
METHOD:PUBLISH
X-PUBLISHED-TTL:P3D
REFRESH-INTERVAL:P3D
CALSCALE:GREGORIAN
BEGIN:VEVENT
DTSTART:20251120T230000Z
DTEND:20251121T013000Z
X-MICROSOFT-CDO-ALLDAYEVENT:FALSE
SUMMARY:Transcestor Day of Remembrance: Celebration of Life Repass
DESCRIPTION:Hosted by Mx. Juneteenth\, a celebration of life to honor the lives of our Black Trans & Gender NonConforming siblings through song\, dance\, poetry\, drag\, & a good ole fashion repass dinner.\n\n\n\nJoin in fellowship with our community as we mourn\, grieve\, and celebrate all of our Black Trans and Gender Non-Conforming siblings we have lost over the last year.\n\n\n\nWe honor their lives through song\, dance\, poetry\, ritual\, drag performances\, and a good ole fashion repass dinner.\n\nWear what makes you feel good\, fine\, and whole. Color inspiration: Blue\, Pink\, & White.
X-ALT-DESC;FMTTYPE=text/html:<span style="color:#696969\;"><strong><span style="font-family:verdana\;"><span style="font-size:14px\;">Hosted by Mx. Juneteenth\, a celebration of life to honor the lives of our Black Trans &amp\; Gender NonConforming siblings through song\, dance\, poetry\, drag\, &amp\; a good ole fashion repass dinner.<br />\n<br />\nJoin in fellowship with our community as we mourn\, grieve\, and celebrate all of our Black Trans and Gender Non-Conforming siblings we have lost over the last year.<br />\n<br />\nWe honor their lives through song\, dance\, poetry\, ritual\, drag performances\, and a good ole fashion repass dinner.<br />\nWear what makes you feel good\, fine\, and whole. Color inspiration: Blue\, Pink\, &amp\; White.</span></span></strong></span>
LOCATION:ThirdSpace Reading Room 1464 East 105th Street Cleveland\, OH 44106
UID:e.2195.8212
SEQUENCE:3
DTSTAMP:20260424T211403Z
URL:https://business.thinkplexus.org/events/details/transcestor-day-of-remembrance-celebration-of-life-repass-8212
END:VEVENT

END:VCALENDAR
