BEGIN:VCALENDAR
VERSION:2.0
PRODID:-//ChamberMaster//Event Calendar 2.0//EN
METHOD:PUBLISH
X-PUBLISHED-TTL:P3D
REFRESH-INTERVAL:P3D
CALSCALE:GREGORIAN
BEGIN:VEVENT
DTSTART:20251212T003000Z
DTEND:20251212T033000Z
X-MICROSOFT-CDO-ALLDAYEVENT:FALSE
SUMMARY:THE HOBBIT at Dobama Theatre
DESCRIPTION:From the smallest beginnings come the greatest legends. Bilbo Baggins would much rather be sitting in his cozy Hobbit Hole with a cup of tea\, but when the Wizard Gandalf arrives at his door\, this little Hobbit embarks on a magical adventure. Go with Bilbo on a heroic journey as he encounters fearsome goblins\, stubborn dwarves\, and the legendary dragon Smaug. J.R.R. Tolkien's charming classic is adapted with imaginative stagecraft\, making for an epic adventure that is fun for the whole family.\n\n\n\nTickets can be purchased online at https://www.dobama.org/hobbit. For assistance please contact Boxoffice@dobama.org or 216-932-3396. Ticket discounts for Seniors Students and active military are available as well as need-based Pay-What-You-Can options.
X-ALT-DESC;FMTTYPE=text/html:<span style="font-size:14px"><span style="font-family:verdana"><span style="color:#696969"><strong>From the smallest beginnings come the greatest legends.</strong> Bilbo Baggins would much rather be sitting in his cozy Hobbit Hole with a cup of tea\, but when the Wizard Gandalf arrives at his door\, this little Hobbit embarks on a magical adventure. Go with Bilbo on a heroic journey as he encounters fearsome goblins\, stubborn dwarves\, and the legendary dragon Smaug. J.R.R. Tolkien&#39\;s charming classic is adapted with imaginative stagecraft\, making for an epic adventure that is fun for the whole family.<br />\n<br />\nTickets can be purchased online at https://www.dobama.org/hobbit. For assistance please contact Boxoffice@dobama.org or 216-932-3396. Ticket discounts for Seniors Students and active military are available as well as need-based Pay-What-You-Can options.</span></span></span><br />\n&nbsp\;
LOCATION:2340 Lee Road\, Cleveland Heights\, OH\, 44118
UID:e.2195.8227
SEQUENCE:3
DTSTAMP:20260424T210346Z
URL:https://business.thinkplexus.org/events/details/the-hobbit-at-dobama-theatre-12-11-2025-8227
END:VEVENT

END:VCALENDAR
