BEGIN:VCALENDAR
VERSION:2.0
PRODID:-//ChamberMaster//Event Calendar 2.0//EN
METHOD:PUBLISH
X-PUBLISHED-TTL:P3D
REFRESH-INTERVAL:P3D
CALSCALE:GREGORIAN
BEGIN:VEVENT
DTSTART:20260506T190000Z
DTEND:20260506T220000Z
X-MICROSOFT-CDO-ALLDAYEVENT:FALSE
SUMMARY:Small Business Resource Fair
DESCRIPTION:Join ECDI Women's Business Center of Northern Ohio\, local organizations\, and the Library for an event connecting entrepreneurs and small business owners with the tools and opportunities to grow.\n\nThis resource fair brings together local\, regional\, and state partners who support small businesses every day\, including public agencies\, lenders\, professional service providers\, and entrepreneurial support organizations. Whether you're looking to access capital\, secure contracts\, strengthen your operations\, or expand your network\, this event is your one-stop shop for insight and opportunity.\n\nParticipating Organizations:\n\nThe Small Business & Nonprofit Resource Center at the Akron-Summit County Public Library\n\nAducate Digital\, LLC.\n\nAkron Urban League\n\nBounce Innovation Hub\n\nCarve Your Own Path\, Inc.\n\nCommunity Legal Aid\n\nContractor Resource Center\n\nECDI Women's Business Centers\n\nElevate Greater Akron\n\nGreater Akron Chamber\n\nHealthMarkets\n\nHuntington Bank\n\nJobs for Ohio's Graduates\n\nNorthside Marketplace\n\nOhio Bureau of Workers' Compensation\n\nOhio Department of Taxation\n\nOhio Small Business Development Center - Akron\n\nPlexus LGBT & Allied Chamber of Commerce\n\nSCORE Akron & Canton\n\nSummit County Board of Development\n\nTechZone@Main\n\nUnited Way of Summit & Medina\n\nVeterans Business Outreach Center\n\nWage and Hour Division
X-ALT-DESC;FMTTYPE=text/html:<div class="x_elementToProof" style="border: 0px\; font-variant-numeric: inherit\; font-variant-east-asian: inherit\; font-variant-alternates: inherit\; font-variant-position: inherit\; font-variant-emoji: inherit\; font-stretch: inherit\; font-size: 12pt\; line-height: inherit\; font-family: Aptos\, Aptos_EmbeddedFont\, Aptos_MSFontService\, Calibri\, Helvetica\, sans-serif\; font-optical-sizing: inherit\; font-size-adjust: inherit\; font-kerning: inherit\; font-feature-settings: inherit\; font-variation-settings: inherit\; font-language-override: inherit\; margin: 1em 0px\; padding: 0px\; vertical-align: baseline\; color: rgb(0\, 0\, 0) !important\;">\n<div class="xdj266r x14z9mp xat24cr x1lziwak x1vvkbs" style="margin-inline: 0px\; overflow-wrap: break-word\; margin-bottom: 0px\; margin-top: 0px\; font-family: &quot\;Segoe UI Historic&quot\;\, &quot\;Segoe UI&quot\;\, Helvetica\, Arial\, sans-serif\; color: rgb(8\, 8\, 9)\; font-size: 15px\;"><span style="color:#696969\;"><strong><span style="font-size:14px\;"><span style="font-family:verdana\;">Join ECDI Women&rsquo\;s Business Center of Northern Ohio\, local organizations\, and the Library for an event connecting entrepreneurs and small business owners with the tools and opportunities to grow.</span></span></strong></span></div>\n\n<div class="x14z9mp xat24cr x1lziwak x1vvkbs xtlvy1s" style="margin-inline: 0px\; overflow-wrap: break-word\; margin-bottom: 0px\; margin-top: 0.5em\; font-family: &quot\;Segoe UI Historic&quot\;\, &quot\;Segoe UI&quot\;\, Helvetica\, Arial\, sans-serif\; color: rgb(8\, 8\, 9)\; font-size: 15px\;"><span style="color:#696969\;"><strong><span style="font-size:14px\;"><span style="font-family:verdana\;">This resource fair brings together local\, regional\, and state partners who support small businesses every day\, including public agencies\, lenders\, professional service providers\, and entrepreneurial support organizations. Whether you&rsquo\;re looking to access capital\, secure contracts\, strengthen your operations\, or expand your network\, this event is your one-stop shop for insight and opportunity.</span></span></strong></span></div>\n\n<div class="x14z9mp xat24cr x1lziwak x1vvkbs xtlvy1s" style="margin-inline: 0px\; overflow-wrap: break-word\; margin-bottom: 0px\; margin-top: 0.5em\; font-family: &quot\;Segoe UI Historic&quot\;\, &quot\;Segoe UI&quot\;\, Helvetica\, Arial\, sans-serif\; color: rgb(8\, 8\, 9)\; font-size: 15px\;"><span style="color:#696969\;"><strong><span style="font-size:14px\;"><span style="font-family:verdana\;">Participating Organizations:<br class="html-br" />\nThe Small Business &amp\; Nonprofit Resource Center at the Akron-Summit County Public Library<br class="html-br" />\nAducate Digital\, LLC.<br class="html-br" />\nAkron Urban League<br class="html-br" />\nBounce Innovation Hub<br class="html-br" />\nCarve Your Own Path\, Inc.<br class="html-br" />\nCommunity Legal Aid<br class="html-br" />\nContractor Resource Center<br class="html-br" />\nECDI Women&#39\;s Business Centers<br class="html-br" />\nElevate Greater Akron<br class="html-br" />\nGreater Akron Chamber<br class="html-br" />\nHealthMarkets<br class="html-br" />\nHuntington Bank<br class="html-br" />\nJobs for Ohio&#39\;s Graduates<br class="html-br" />\nNorthside Marketplace<br class="html-br" />\nOhio Bureau of Workers&rsquo\; Compensation<br class="html-br" />\nOhio Department of Taxation<br class="html-br" />\nOhio Small Business Development Center - Akron<br class="html-br" />\nPlexus LGBT &amp\; Allied Chamber of Commerce<br class="html-br" />\nSCORE Akron &amp\; Canton<br class="html-br" />\nSummit County Board of Development<br class="html-br" />\nTechZone@Main<br class="html-br" />\nUnited Way of Summit &amp\; Medina<br class="html-br" />\nVeterans Business Outreach Center<br class="html-br" />\nWage and Hour Division</span></span></strong></span></div>\n</div>\n
LOCATION:Location: Akron-Summit County Public Library Main Branch Address: 60 S High St\, Akron\, OH 44326
UID:e.2195.8744
SEQUENCE:3
DTSTAMP:20260423T041620Z
URL:https://business.thinkplexus.org/events/details/small-business-resource-fair-8744
END:VEVENT

END:VCALENDAR
