BEGIN:VCALENDAR
VERSION:2.0
PRODID:-//ChamberMaster//Event Calendar 2.0//EN
METHOD:PUBLISH
X-PUBLISHED-TTL:P3D
REFRESH-INTERVAL:P3D
CALSCALE:GREGORIAN
BEGIN:VEVENT
DTSTART:20250903T193000Z
DTEND:20250903T203000Z
X-MICROSOFT-CDO-ALLDAYEVENT:FALSE
SUMMARY:Qu'Ed
DESCRIPTION:Connect\, learn\, and grow in a welcoming community focused on LGBTQ+ and Ally employee experiences in educational workplaces. Each session explores timely topics impacting LGBTQ+ communities in education\, while uplifting allyship and intersectional equity in the workplace. \n\nThough not structured as a formal ERG\, this space fills a critical gap\, offering professional learning\, peer support\, and community building. Each session explores timely topics impacting LGBTQ+ communities in education\, while uplifting allyship and intersectional equity in the workplace. This group is: \n\n\n	Open to all interested in education topics\, LGBTQ+ identifying and allies alike. \n	Held virtually\, however may develop into a few in-person meet-ups per year. \n	Non-political and mission-aligned with education values of dignity\, equity\, and inclusion.
X-ALT-DESC;FMTTYPE=text/html:<span style="font-size:14px\;"><span style="font-family:verdana\;"><span style="color:#696969\;"><strong><span style="letter-spacing: 0.42px\; white-space-collapse: preserve-breaks\;">Connect\, learn\, and grow in a welcoming community focused on LGBTQ+ and Ally employee experiences in educational workplaces. Each session explores timely topics impacting LGBTQ+ communities in education\, while uplifting allyship and intersectional equity in the workplace.&nbsp\;</span></strong></span></span></span>\n<div class="OutlineElement Ltr SCXW197466869 BCX0" style="-webkit-user-drag: none\; -webkit-tap-highlight-color: transparent\; margin: 0px\; padding: 0px\; user-select: text\; clear: both\; cursor: text\; overflow: visible\; position: relative\; direction: ltr\;">\n<p class="Paragraph SCXW197466869 BCX0" paraeid="{19405669-562d-424e-aa0b-c1929b381412}{51}" paraid="1970435076" style="-webkit-user-drag: none\; -webkit-tap-highlight-color: transparent\; margin: 0px 0px 10.6667px\; padding: 0px\; user-select: text\; overflow-wrap: break-word\; vertical-align: baseline\; font-kerning: none\;"><font color="#696969" face="verdana"><span style="font-size: 14px\; font-variant-ligatures: none\; white-space-collapse: preserve\;"><b>Though not structured as a formal ERG\, this space fills a critical gap\, offering professional learning\, peer support\, and community building. Each session explores timely topics impacting LGBTQ+ communities in education\, while uplifting allyship and intersectional equity in the workplace. This group is: </b></span></font></p>\n\n<ul>\n	<li class="Paragraph SCXW197466869 BCX0" paraeid="{19405669-562d-424e-aa0b-c1929b381412}{51}" paraid="1970435076" style="-webkit-user-drag: none\; -webkit-tap-highlight-color: transparent\; margin: 0px 0px 10.6667px\; padding: 0px\; user-select: text\; overflow-wrap: break-word\; vertical-align: baseline\; font-kerning: none\;"><font color="#696969" face="verdana"><span style="font-size: 14px\; font-variant-ligatures: none\; white-space-collapse: preserve\;"><b>Open to all interested in education topics\, LGBTQ+ identifying and allies alike. </b></span></font></li>\n	<li class="Paragraph SCXW197466869 BCX0" paraeid="{19405669-562d-424e-aa0b-c1929b381412}{51}" paraid="1970435076" style="-webkit-user-drag: none\; -webkit-tap-highlight-color: transparent\; margin: 0px 0px 10.6667px\; padding: 0px\; user-select: text\; overflow-wrap: break-word\; vertical-align: baseline\; font-kerning: none\;"><font color="#696969" face="verdana"><span style="font-size: 14px\; font-variant-ligatures: none\; white-space-collapse: preserve\;"><b>Held virtually\, however may develop into a few in-person meet-ups per year. </b></span></font></li>\n	<li class="Paragraph SCXW197466869 BCX0" paraeid="{19405669-562d-424e-aa0b-c1929b381412}{51}" paraid="1970435076" style="-webkit-user-drag: none\; -webkit-tap-highlight-color: transparent\; margin: 0px 0px 10.6667px\; padding: 0px\; user-select: text\; overflow-wrap: break-word\; vertical-align: baseline\; font-kerning: none\;"><font color="#696969" face="verdana"><span style="font-size: 14px\; font-variant-ligatures: none\; white-space-collapse: preserve\;"><b>Non-political and mission-aligned with education values of dignity\, equity\, and inclusion. </b></span></font></li>\n</ul>\n</div>\n&nbsp\;\n\n<div class="ListContainerWrapper SCXW197466869 BCX0" style="-webkit-user-drag: none\; -webkit-tap-highlight-color: transparent\; margin: 0px\; padding: 0px\; user-select: text\; position: relative\; color: rgb(0\, 0\, 0)\; font-family: &quot\;Segoe UI&quot\;\, &quot\;Segoe UI Web&quot\;\, Arial\, Verdana\, sans-serif\; font-size: 12px\;">\n<ul class="BulletListStyle1 SCXW197466869 BCX0" role="list" style="padding-right: 0px\; padding-left: 0px\; -webkit-user-drag: none\; -webkit-tap-highlight-color: transparent\; margin: 0px\; user-select: text\; cursor: text\; font-family: verdana\; overflow: visible\;">\n	<li aria-setsize="-1" class="OutlineElement Ltr SCXW197466869 BCX0" data-aria-level="1" data-aria-posinset="3" data-font="Symbol" data-leveltext="&#61623\;" data-list-defn-props="{&quot\;335552541&quot\;:1\,&quot\;335559685&quot\;:720\,&quot\;335559991&quot\;:360\,&quot\;469769226&quot\;:&quot\;Symbol&quot\;\,&quot\;469769242&quot\;:[8226]\,&quot\;469777803&quot\;:&quot\;left&quot\;\,&quot\;469777804&quot\;:&quot\;&#61623\;&quot\;\,&quot\;469777815&quot\;:&quot\;hybridMultilevel&quot\;}" data-listid="1" role="listitem" style="-webkit-user-drag: none\; -webkit-tap-highlight-color: transparent\; margin: 0px 0px 0px 24px\; padding: 0px\; user-select: text\; clear: both\; cursor: text\; overflow: visible\; position: relative\; direction: ltr\; display: block\; font-size: 12pt\; font-family: Aptos\, Aptos_MSFontService\, sans-serif\; vertical-align: baseline\;">\n	<p class="Paragraph SCXW197466869 BCX0" paraeid="{19405669-562d-424e-aa0b-c1929b381412}{97}" paraid="882934768" style="-webkit-user-drag: none\; -webkit-tap-highlight-color: transparent\; margin: 0px\; padding: 0px\; user-select: text\; overflow-wrap: break-word\; white-space-collapse: preserve\; vertical-align: baseline\; font-kerning: none\; background-color: transparent\; color: windowtext\;">&nbsp\;</p>\n	</li>\n</ul>\n</div>\n\n<div class="ListContainerWrapper SCXW197466869 BCX0" style="-webkit-user-drag: none\; -webkit-tap-highlight-color: transparent\; margin: 0px\; padding: 0px\; user-select: text\; position: relative\; color: rgb(0\, 0\, 0)\; font-family: &quot\;Segoe UI&quot\;\, &quot\;Segoe UI Web&quot\;\, Arial\, Verdana\, sans-serif\; font-size: 12px\;">\n<ul class="BulletListStyle1 SCXW197466869 BCX0" role="list" style="-webkit-user-drag: none\; -webkit-tap-highlight-color: transparent\; margin: 0px\; padding-right: 0px\; padding-left: 0px\; user-select: text\; cursor: text\; font-family: verdana\; overflow: visible\;">\n	<li aria-setsize="-1" class="OutlineElement Ltr SCXW197466869 BCX0" data-aria-level="1" data-aria-posinset="3" data-font="Symbol" data-leveltext="&#61623\;" data-list-defn-props="{&quot\;335552541&quot\;:1\,&quot\;335559685&quot\;:720\,&quot\;335559991&quot\;:360\,&quot\;469769226&quot\;:&quot\;Symbol&quot\;\,&quot\;469769242&quot\;:[8226]\,&quot\;469777803&quot\;:&quot\;left&quot\;\,&quot\;469777804&quot\;:&quot\;&#61623\;&quot\;\,&quot\;469777815&quot\;:&quot\;hybridMultilevel&quot\;}" data-listid="1" role="listitem" style="-webkit-user-drag: none\; -webkit-tap-highlight-color: transparent\; margin: 0px 0px 0px 24px\; padding: 0px\; user-select: text\; clear: both\; cursor: text\; overflow: visible\; position: relative\; direction: ltr\; display: block\; font-size: 12pt\; font-family: Aptos\, Aptos_MSFontService\, sans-serif\; vertical-align: baseline\;">\n	<p class="Paragraph SCXW197466869 BCX0" paraeid="{19405669-562d-424e-aa0b-c1929b381412}{97}" paraid="882934768" style="-webkit-user-drag: none\; -webkit-tap-highlight-color: transparent\; margin: 0px\; padding: 0px\; user-select: text\; overflow-wrap: break-word\; white-space-collapse: preserve\; vertical-align: baseline\; font-kerning: none\; background-color: transparent\; color: windowtext\;">&nbsp\;</p>\n	</li>\n</ul>\n</div>\n
LOCATION:Same Zoom Link Each Month https://us02web.zoom.us/meeting/register/eyfEs-1XSUGpJo40ng5fJg
UID:e.2195.7541
SEQUENCE:3
DTSTAMP:20260425T000754Z
URL:https://business.thinkplexus.org/events/details/qu-ed-7541
END:VEVENT

END:VCALENDAR
