BEGIN:VCALENDAR
VERSION:2.0
PRODID:-//ChamberMaster//Event Calendar 2.0//EN
METHOD:PUBLISH
X-PUBLISHED-TTL:P3D
REFRESH-INTERVAL:P3D
CALSCALE:GREGORIAN
BEGIN:VEVENT
DTSTART:20260217T223000Z
DTEND:20260218T010000Z
X-MICROSOFT-CDO-ALLDAYEVENT:FALSE
SUMMARY:QEO Dinner with Renee Martinez
DESCRIPTION:Join us on February 17\, 2026 at 5:30 PM for a QEO Dinner you won't want to miss\, where we'll sit down with our host Renee Martinez at her beautiful and inspiring creative space\, WovenSmart in Lakewood.\n\n\n\nThis intimate evening brings together 20 30 LGBTQ+ and allied emerging professionals for dinner\, conversation\, and connection in a space designed to spark creativity and calm. No awkward networking. No formal presentations. Just real talk\, good food\, and genuine connection.\n\n\n\nOur guest for the evening is Renee Martinez\, a dynamic speaker\, multidisciplinary artist\, entrepreneur\, and founder of WovenSmart. With over 20 years of experience in branding\, design\, and strategy\, Renee helps people and organizations unlock creativity\, embrace innovation\, and grow with intention. Her work blends arts-based practices\, human-centered strategy\, and experience-led marketing\, delivering insights that are both inspiring and highly actionable.\n\n\n\nWhether you're a recent grad\, early in your career\, or navigating your next professional chapter\, this QEO Dinner offers a welcoming space to connect with peers\, share ideas\, and leave feeling energized and inspired.
X-ALT-DESC;FMTTYPE=text/html:<span style="color:#696969\;"><strong><span style="font-family:verdana\;"><span style="font-size:14px\;">Join us on February 17\, 2026 at 5:30 PM for a QEO Dinner you won&rsquo\;t want to miss\, where we&#39\;ll sit down with our host Renee Martinez at her beautiful and inspiring creative space\, WovenSmart in Lakewood.<br />\n<br />\nThis intimate evening brings together 20&ndash\;30 LGBTQ+ and allied emerging professionals for dinner\, conversation\, and connection in a space designed to spark creativity and calm. No awkward networking. No formal presentations. Just real talk\, good food\, and genuine connection.<br />\n<br />\nOur guest for the evening is Renee Martinez\, a dynamic speaker\, multidisciplinary artist\, entrepreneur\, and founder of WovenSmart. With over 20 years of experience in branding\, design\, and strategy\, Renee helps people and organizations unlock creativity\, embrace innovation\, and grow with intention. Her work blends arts-based practices\, human-centered strategy\, and experience-led marketing\, delivering insights that are both inspiring and highly actionable.<br />\n<br />\nWhether you&rsquo\;re a recent grad\, early in your career\, or navigating your next professional chapter\, this QEO Dinner offers a welcoming space to connect with peers\, share ideas\, and leave feeling energized and inspired.</span></span></strong></span>
LOCATION:WovenSmart 15620 Detroit Avenue\, Suite 110 Lakewood\, OH 44107
UID:e.2195.8374
SEQUENCE:3
DTSTAMP:20260424T155723Z
URL:https://business.thinkplexus.org/events/details/qeo-dinner-with-renee-martinez-8374
END:VEVENT

END:VCALENDAR
