BEGIN:VCALENDAR
VERSION:2.0
PRODID:-//ChamberMaster//Event Calendar 2.0//EN
METHOD:PUBLISH
X-PUBLISHED-TTL:P3D
REFRESH-INTERVAL:P3D
CALSCALE:GREGORIAN
BEGIN:VEVENT
DTSTART:20250802T140000Z
DTEND:20250802T160000Z
X-MICROSOFT-CDO-ALLDAYEVENT:FALSE
SUMMARY:Putt for Progress
DESCRIPTION:This event is free for women of color and only those who identify as such!\n\nJoin us for a special session at the Sisters of Econ Golf Clinic where you'll not only learn the essentials of golf etiquette and technique from experiences volunteers--but you'll also step into a deeper kind of learning. \n\nLed by former NCAA collegiate golfer Dr. Christina Gonzalez Alcala\, this interactive session weaves in the life lessons the game teaches us: patience\, presence\, power\, and perspective. Alongside executive coach Claudia Diaz\, you'll also reflect on your own professional journey--where you are now\, and where you're headed next. It's a chance to pause\, realign\, and grow--on and off the green--with a community that sees you and is rooting for you.
X-ALT-DESC;FMTTYPE=text/html:This event is free for women of color and only those who identify as such!<br />\nJoin us for a special session at the Sisters of Econ Golf Clinic where you&#39\;ll not only learn the essentials of golf etiquette and technique from experiences volunteers--but you&#39\;ll also step into a deeper kind of learning.&nbsp\;<br />\nLed by former NCAA collegiate golfer Dr. Christina Gonzalez Alcala\, this interactive session weaves in the life lessons the game teaches us: patience\, presence\, power\, and perspective. Alongside executive coach Claudia Diaz\, you&#39\;ll also reflect on your own professional journey--where you are now\, and where you&#39\;re headed next. It&#39\;s a chance to pause\, realign\, and grow--on and off the green--with a community that sees you and is rooting for you.&nbsp\;
LOCATION:Shawnee Hills Golf Course 18753 Egbert Road Bedford\, Ohio
UID:e.2195.7525
SEQUENCE:3
DTSTAMP:20260425T031152Z
URL:https://business.thinkplexus.org/events/details/putt-for-progress-7525
END:VEVENT

END:VCALENDAR
