BEGIN:VCALENDAR
VERSION:2.0
PRODID:-//ChamberMaster//Event Calendar 2.0//EN
METHOD:PUBLISH
X-PUBLISHED-TTL:P3D
REFRESH-INTERVAL:P3D
CALSCALE:GREGORIAN
BEGIN:VEVENT
DTSTART:20260516T213000Z
DTEND:20260517T023000Z
X-MICROSOFT-CDO-ALLDAYEVENT:FALSE
SUMMARY:Pose! Near West Theatre Gala
DESCRIPTION:Near West Theatre's Annual Benefit\n\n \n\nStep into your truth and into the spotlight at Near West Theatre's most radiant night of the year. Inspired by the fierce spirit of ballroom culture and the fearless creativity of the Met Gala\, Pose! is more than a benefit. It's a bold celebration of authenticity\, artistry\, and community.\n\nFrom red carpet moments to immersive performances\, expect an unforgettable evening filled with powerful self-expression\, daring fashion\, and electric joy. Whether you're serving timeless glam\, avant-garde edge\, or something entirely your own. Pose! is your chance to show up as your truest self and be celebrated for it.\n\nCome as you are\, or who you dream to be. Dress to express\, not impress. Because at Pose!\, your story\, your voice\, your presence are what light up the room. All proceeds support Near West Theatre's mission to uplift lives and amplify voices through transformational theatre experiences. This is more than a benefit. It's a statement. It's art. It's you.\n\nAre you ready to pose?
X-ALT-DESC;FMTTYPE=text/html:<div font-size:="" gothic="" lt="" next="" trade="" w01=""><strong><span style="color:#696969\;"><span style="font-size:14px\;"><span style="font-family:verdana\;">Near West Theatre&#39\;s Annual Benefit</span></span></span></strong></div>\n\n<div font-size:="" gothic="" lt="" next="" trade="" w01="">&nbsp\;</div>\n\n<div font-size:="" gothic="" lt="" next="" trade="" w01=""><strong><span style="color:#696969\;"><span style="font-size:14px\;"><span style="font-family:verdana\;">Step into your truth and into the spotlight at Near West Theatre&rsquo\;s most radiant night of the year. Inspired by the fierce spirit of ballroom culture and the fearless creativity of the Met Gala\,&nbsp\;Pose!&nbsp\;is more than a benefit. It&rsquo\;s a bold celebration of authenticity\, artistry\, and community.</span></span></span></strong></div>\n\n<div font-size:="" gothic="" lt="" next="" trade="" w01=""><strong><span style="color:#696969\;"><span style="font-size:14px\;"><span style="font-family:verdana\;">From red carpet moments to immersive performances\, expect an unforgettable evening filled with powerful self-expression\, daring fashion\, and electric joy. Whether you&rsquo\;re serving timeless glam\, avant-garde edge\, or something entirely your own.&nbsp\;Pose!&nbsp\;is your chance to show up as your truest self and be celebrated for it.</span></span></span></strong></div>\n\n<div font-size:="" gothic="" lt="" next="" trade="" w01=""><strong><span style="color:#696969\;"><span style="font-size:14px\;"><span style="font-family:verdana\;">Come as you are\, or who you dream to be. Dress to express\, not impress. Because at&nbsp\;Pose!\,&nbsp\;your story\, your voice\, your presence are what light up the room. All proceeds support Near West Theatre&rsquo\;s mission to uplift lives and amplify voices through transformational theatre experiences. This is more than a benefit. It&rsquo\;s a statement. It&rsquo\;s art. It&rsquo\;s you.</span></span></span></strong></div>\n\n<div font-size:="" gothic="" lt="" next="" trade="" w01=""><strong><span style="color:#696969\;"><span style="font-size:14px\;"><span style="font-family:verdana\;">Are you ready to pose?</span></span></span></strong></div>\n
LOCATION:6702 Detroit Avenue\, Cleveland\, OH
UID:e.2195.8456
SEQUENCE:3
DTSTAMP:20260423T125222Z
URL:https://business.thinkplexus.org/events/details/pose-near-west-theatre-gala-8456
END:VEVENT

END:VCALENDAR
