BEGIN:VCALENDAR
VERSION:2.0
PRODID:-//ChamberMaster//Event Calendar 2.0//EN
METHOD:PUBLISH
X-PUBLISHED-TTL:P3D
REFRESH-INTERVAL:P3D
CALSCALE:GREGORIAN
BEGIN:VEVENT
DTSTART:20210623T230000Z
DTEND:20210624T003000Z
X-MICROSOFT-CDO-ALLDAYEVENT:FALSE
SUMMARY:Plexus X Graffiti HeArt
DESCRIPTION:Plexus and PFLAG Cleveland invite you to an LGBTQ+ Young Professionals Mixer hosted by Graffiti HeArt. Our first in-person event of the year! Drinks\, snacks\, and networking. Event proceeds benefit the CIA Pre-College Program Scholarship Fund.
X-ALT-DESC;FMTTYPE=text/html:<span style="font-size:14px\;"><span style="font-family:tahoma\;">Plexus and PFLAG Cleveland invite you to an LGBTQ+ Young Professionals Mixer hosted by Graffiti HeArt. Our first in-person event of the year! Drinks\, snacks\, and networking. Event proceeds benefit the CIA Pre-College Program Scholarship Fund.&nbsp\;</span></span>
LOCATION:4829 Superior Avenue | Cleveland
UID:e.2195.2882
SEQUENCE:3
DTSTAMP:20260420T174047Z
URL:https://business.thinkplexus.org/events/details/plexus-x-graffiti-heart-2882
END:VEVENT

END:VCALENDAR
