BEGIN:VCALENDAR
VERSION:2.0
PRODID:-//ChamberMaster//Event Calendar 2.0//EN
METHOD:PUBLISH
X-PUBLISHED-TTL:P3D
REFRESH-INTERVAL:P3D
CALSCALE:GREGORIAN
BEGIN:VEVENT
DTSTART:20210609T190000Z
DTEND:20210609T203000Z
X-MICROSOFT-CDO-ALLDAYEVENT:FALSE
SUMMARY:Plexus ERG Council: HRC CEI: Getting to 100
DESCRIPTION:First time participating in the HRC Corporate Equality Index? Are you hitting a wall and stuck at a score of 80? Overwhelmed by the process? Join fellow ERG leaders for a small group session to share tips and walk through the application process.
X-ALT-DESC;FMTTYPE=text/html:<span style="font-family:libre franklin\;"><span style="font-size:16px\;"><span style="font-family:tahoma\;">First time participating in the HRC Corporate Equality Index? Are you hitting a wall and stuck at a score of 80? Overwhelmed by the process? Join fellow ERG leaders for a small group session to share tips and walk through the application process.&nbsp\;</span></span> </span>
LOCATION:Zoom
UID:e.2195.1820
SEQUENCE:3
DTSTAMP:20260420T175308Z
URL:https://business.thinkplexus.org/events/details/plexus-erg-council-hrc-cei-getting-to-100-1820
END:VEVENT

END:VCALENDAR
