BEGIN:VCALENDAR
VERSION:2.0
PRODID:-//ChamberMaster//Event Calendar 2.0//EN
METHOD:PUBLISH
X-PUBLISHED-TTL:P3D
REFRESH-INTERVAL:P3D
CALSCALE:GREGORIAN
BEGIN:VEVENT
DTSTART:20250916T170000Z
DTEND:20250916T180000Z
X-MICROSOFT-CDO-ALLDAYEVENT:FALSE
SUMMARY:Plexus Connects: Thriving as a Solopreneur in a Scalable World
DESCRIPTION:This panel is designed for solopreneurs\, business owners who choose to build\, grow\, and sustain a company of one and those considering this type of work. Whether you're a coach\, freelancer\, consultant\, digital product creator\, or micro-agency owner\, this session will deliver practical strategies\, tools\, and mindset shifts to help you scale smartly without hiring a team. Join an amazing panel taking a deep dive into what it takes to thrive as a solopreneur. \n\n\n\nFacilitator - Dr. Jennifer Bosco\, Business Inclusion Hub Director\, Plexus\n\n\n\nPanel\n\n	Michelle Dixon\, Owner/Operator\, Dixon Officiant Services\n	Ross Widenor\, Excellence Manager\, Widenor Consulting\n	Jeanita Blue\, Global Marketing Strategist\, Blue International Marketing \n	Ronna J. McNair\, Executive Director\, The Center for Entrepreneurs\, Cuyahoga Community College
X-ALT-DESC;FMTTYPE=text/html:<div style="font-size: 14px\;"><span style="font-family:verdana\;"><span style="color:#696969\;"><strong>This panel is designed for solopreneurs\, business owners who choose to build\, grow\, and sustain a company of one and those considering this type of work. Whether you&#39\;re a coach\, freelancer\, consultant\, digital product creator\, or micro-agency owner\, this session will deliver practical strategies\, tools\, and mindset shifts to help you scale smartly without hiring a team.</strong></span></span>&nbsp\;<span style="font-family:verdana\;"><span style="color:#696969\;"><strong>Join an amazing panel taking a deep dive into what it takes to thrive as a solopreneur.&nbsp\;<br />\n<br />\nFacilitator - Dr. Jennifer Bosco\, Business Inclusion Hub Director\, Plexus<br />\n<br />\nPanel</strong></span></span>\n<ul>\n	<li><span style="font-family:verdana\;"><span style="color:#696969\;"><strong>Michelle Dixon\, Owner/Operator\, Dixon Officiant Services</strong></span></span></li>\n	<li><span style="font-family:verdana\;"><span style="color:#696969\;"><strong>Ross Widenor\, Excellence Manager\, Widenor Consulting</strong></span></span></li>\n	<li><span style="font-family:verdana\;"><span style="color:#696969\;"><strong>Jeanita Blue\, Global Marketing Strategist\, Blue International Marketing&nbsp\;</strong></span></span></li>\n	<li><span style="font-family:verdana\;"><span style="color:#696969\;"><strong><strong>Ronna J. McNair\, Executive Director\, The Center for Entrepreneurs\, Cuyahoga Community College</strong></strong></span></span></li>\n</ul>\n</div>\n
LOCATION:Virtual. https://us02web.zoom.us/j/89279555585
UID:e.2195.7515
SEQUENCE:3
DTSTAMP:20260425T001233Z
URL:https://business.thinkplexus.org/events/details/plexus-connects-thriving-as-a-solopreneur-in-a-scalable-world-7515
END:VEVENT

END:VCALENDAR
