BEGIN:VCALENDAR
VERSION:2.0
PRODID:-//ChamberMaster//Event Calendar 2.0//EN
METHOD:PUBLISH
X-PUBLISHED-TTL:P3D
REFRESH-INTERVAL:P3D
CALSCALE:GREGORIAN
BEGIN:VEVENT
DTSTART:20250130T170000Z
DTEND:20250130T183000Z
X-MICROSOFT-CDO-ALLDAYEVENT:FALSE
SUMMARY:Personal Branding Bootcamp
DESCRIPTION:Take control of your narrative and elevate your presence at the Personal Branding Bootcamp! This immersive event is designed to help you define\, develop\, and showcase your unique personal brand\, empowering you to stand out in today's competitive world.\n\nThrough hands-on activities\, expert guidance\, and actionable strategies\, you'll learn how to:\n\n\n	Clarify your values and strengths.\n	Craft a compelling personal story.\n	Leverage social media and networking effectively.\n	Create a consistent and authentic brand image.\n\n\nWhether you're an entrepreneur\, professional\, or creative\, this bootcamp will equip you with the tools to build a strong personal brand that resonates with your audience and aligns with your goals.\n\nWho: Ideal for professionals\, creatives\, and anyone looking to elevate their personal or professional presence\n\nStep into your power\, make your mark\, and let your brand shine!\n\nEach month we will focus on a new topic.\n\nFood and beverages will be provided.
X-ALT-DESC;FMTTYPE=text/html:<div data-testid="aboutThisEvent">\n<div>\n<div>\n<div>\n<div>\n<div id="event-description">\n<div>\n<div>\n<p><strong><span style="font-family:verdana\;"><span style="font-size:14px\;">Take control of your narrative and elevate your presence at the&nbsp\;Personal Branding Bootcamp! This immersive event is designed to help you define\, develop\, and showcase your unique personal brand\, empowering you to stand out in today&rsquo\;s competitive world.</span></span></strong></p>\n\n<p><strong><span style="font-family:verdana\;"><span style="font-size:14px\;">Through hands-on activities\, expert guidance\, and actionable strategies\, you&rsquo\;ll learn how to:</span></span></strong></p>\n\n<ul>\n	<li><strong><span style="font-family:verdana\;"><span style="font-size:14px\;">Clarify your values and strengths.</span></span></strong></li>\n	<li><strong><span style="font-family:verdana\;"><span style="font-size:14px\;">Craft a compelling personal story.</span></span></strong></li>\n	<li><strong><span style="font-family:verdana\;"><span style="font-size:14px\;">Leverage social media and networking effectively.</span></span></strong></li>\n	<li><strong><span style="font-family:verdana\;"><span style="font-size:14px\;">Create a consistent and authentic brand image.</span></span></strong></li>\n</ul>\n\n<p><strong><span style="font-family:verdana\;"><span style="font-size:14px\;">Whether you&rsquo\;re an entrepreneur\, professional\, or creative\, this bootcamp will equip you with the tools to build a strong personal brand that resonates with your audience and aligns with your goals.</span></span></strong></p>\n\n<p><strong><span style="font-family:verdana\;"><span style="font-size:14px\;">Who:&nbsp\;Ideal for professionals\, creatives\, and anyone looking to elevate their personal or professional presence</span></span></strong></p>\n\n<p><strong><span style="font-family:verdana\;"><span style="font-size:14px\;">Step into your power\, make your mark\, and let your brand shine!</span></span></strong></p>\n\n<p><strong><span style="font-family:verdana\;"><span style="font-size:14px\;">Each month we will focus on a new topic.</span></span></strong></p>\n\n<p><strong><span style="font-family:verdana\;"><span style="font-size:14px\;">Food and beverages will be provided.</span></span></strong></p>\n</div>\n</div>\n</div>\n</div>\n</div>\n</div>\n</div>\n</div>\n
LOCATION:Wovensmart 15620 Detroit Avenue\, Suite 110 Lakewood\, Ohio 44107
UID:e.2195.6664
SEQUENCE:3
DTSTAMP:20260419T122817Z
URL:https://business.thinkplexus.org/events/details/personal-branding-bootcamp-6664
END:VEVENT

END:VCALENDAR
