BEGIN:VCALENDAR
VERSION:2.0
PRODID:-//ChamberMaster//Event Calendar 2.0//EN
METHOD:PUBLISH
X-PUBLISHED-TTL:P3D
REFRESH-INTERVAL:P3D
CALSCALE:GREGORIAN
BEGIN:VEVENT
DTSTART:20250906T230000Z
DTEND:20250907T040000Z
X-MICROSOFT-CDO-ALLDAYEVENT:FALSE
SUMMARY:Pandemonium 2025: To the Moon
DESCRIPTION:Pandemonium\, Cleveland Public Theatre's annual benefit\, transforms the campus into a labyrinth of theatre\, dance\, visual art\, and performance in every corner. Tickets are all-inclusive\, featuring fabulous local food\, free valet\, and complimentary drinks served all night long. A feast for the eyes\, mind\, appetite\, and imagination Pandemonium proceeds benefit CPT's?groundbreaking artistic work?and?life-changing education programs.
X-ALT-DESC;FMTTYPE=text/html:<span style="background-color:rgb(255\, 255\, 255)\; color:rgb(34\, 34\, 34)\; font-family:open sans\,helvetica neue\,helvetica\,helvetica\,arial\,sans-serif\; font-size:16px">Pandemonium\, Cleveland Public Theatre&#39\;s annual benefit\, transforms the campus into a labyrinth of theatre\, dance\, visual art\, and performance in every corner. Tickets are all-inclusive\, featuring fabulous local food\, free valet\, and complimentary drinks served all night long. A feast for the eyes\, mind\, appetite\, and imagination&mdash\;Pandemonium proceeds benefit CPT&rsquo\;s?</span><a href="https://www.cptonline.org/new-play-development/" style="box-sizing: border-box\; background: rgba(255\, 255\, 255\, 0)\; color: rgb(119\, 119\, 119)\; line-height: inherit\; font-family: &quot\;Open Sans&quot\;\, &quot\;Helvetica Neue&quot\;\, Helvetica\, Helvetica\, Arial\, sans-serif\; font-size: 16px\;">groundbreaking artistic work</a><span style="background-color:rgb(255\, 255\, 255)\; color:rgb(34\, 34\, 34)\; font-family:open sans\,helvetica neue\,helvetica\,helvetica\,arial\,sans-serif\; font-size:16px">?and</span><a href="https://www.cptonline.org/education/" style="box-sizing: border-box\; background: rgba(255\, 255\, 255\, 0)\; color: rgb(119\, 119\, 119)\; line-height: inherit\; font-family: &quot\;Open Sans&quot\;\, &quot\;Helvetica Neue&quot\;\, Helvetica\, Helvetica\, Arial\, sans-serif\; font-size: 16px\;">?life-changing education programs.</a>
LOCATION:Cleveland Public Theatre (Campus) 6415 Detroit Ave. Cleveland\, OH 44102
UID:e.2195.7535
SEQUENCE:3
DTSTAMP:20260425T001119Z
URL:https://business.thinkplexus.org/events/details/pandemonium-2025-to-the-moon-7535
END:VEVENT

END:VCALENDAR
