BEGIN:VCALENDAR
VERSION:2.0
PRODID:-//ChamberMaster//Event Calendar 2.0//EN
METHOD:PUBLISH
X-PUBLISHED-TTL:P3D
REFRESH-INTERVAL:P3D
CALSCALE:GREGORIAN
BEGIN:VEVENT
DTSTART:20250917T203000Z
DTEND:20250917T223000Z
X-MICROSOFT-CDO-ALLDAYEVENT:FALSE
SUMMARY:Out in Tech Cleveland LGBTQ+ Happy Hour
DESCRIPTION:Join Out in Tech Cleveland for #CLETechWeek's best LGBTQ+ happy hour and help relaunch the OIT Cleveland Chapter with our first event in 2 years as well!\n\nCome meet the new OIT leadership team and hang out with (new) friends on September 17th at The W Sports Bar\, an amazing new spot in Gordon Square AND Cleveland's only women's sports bar.\n\nRSVP to socialize and connect with fellow LGBTQIA+ folx and allies who work in tech\, are interested in tech\, or are just excited to meet other great people. Whether you have been here since the beginning of the chapter or found out about them recently through #CLETechWeek\, they're looking forward to seeing you at The W!
X-ALT-DESC;FMTTYPE=text/html:<p><span style="color:#696969\;"><strong><span style="font-family:verdana\;"><span style="font-size:14px\;">Join Out in Tech Cleveland for #CLETechWeek&#39\;s best LGBTQ+ happy hour and help relaunch the OIT Cleveland Chapter with our first event in 2 years as well!</span></span></strong></span></p>\n\n<p><span style="color:#696969\;"><strong><span style="font-family:verdana\;"><span style="font-size:14px\;">Come meet the new OIT leadership team and hang out with (new) friends on September 17th at The W Sports Bar\, an amazing new spot in Gordon Square AND Cleveland&#39\;s only women&#39\;s sports bar.</span></span></strong></span></p>\n\n<p><span style="color:#696969\;"><strong><span style="font-family:verdana\;"><span style="font-size:14px\;">RSVP to socialize and connect with fellow LGBTQIA+ folx and allies who work in tech\, are interested in tech\, or are just excited to meet other great people. Whether you have been here since the beginning of the chapter or found out about them recently through #CLETechWeek\, they&#39\;re looking forward to seeing you at The W!</span></span></strong></span></p>\n
LOCATION:The W Sports Bar 5428 Detroit Avenue\, Cleveland\, OH 44102
UID:e.2195.7849
SEQUENCE:3
DTSTAMP:20260425T001217Z
URL:https://business.thinkplexus.org/events/details/out-in-tech-cleveland-lgbtq-happy-hour-7849
END:VEVENT

END:VCALENDAR
