BEGIN:VCALENDAR
VERSION:2.0
PRODID:-//ChamberMaster//Event Calendar 2.0//EN
METHOD:PUBLISH
X-PUBLISHED-TTL:P3D
REFRESH-INTERVAL:P3D
CALSCALE:GREGORIAN
BEGIN:VEVENT
DTSTART;VALUE=DATE:20251013
DTEND;VALUE=DATE:20251017
TRANSP:TRANSPARENT
X-MICROSOFT-CDO-ALLDAYEVENT:TRUE
SUMMARY:Out & Equal Workplace Summit
DESCRIPTION:Out & Equal's Workplace Summit is the world's largest gathering of LGBTQ+ and allied professionals committed to building workplaces of belonging. Each year\, thousands of executives\, ERG leaders\, inclusion and HR professionals\, talent strategists\, and changemakers come together for an experience that informs\, inspires\, and ignites action. \n\nFor nearly three decades\, Out & Equal has hosted this landmark event to advance LGBTQ+ workplace inclusion delivering high-impact programming\, meaningful networking\, and the business strategies that shape the future of work. In a rapidly shifting workplace and social landscape\, Summit is where clarity\, strategy\, and community come together. Whether you're driving change from the boardroom or building power from your ERG\, Summit equips you to return to your workplace ready to lead boldly.
X-ALT-DESC;FMTTYPE=text/html:<div helvetica="" min-width:="" unset=""><strong><span style="color:#696969\;"><span style="font-size:14px\;"><span style="font-family:verdana\;">Out &amp\; Equal&#39\;s Workplace Summit is&nbsp\;the world&rsquo\;s largest gathering&nbsp\;of LGBTQ+ and allied professionals committed to building workplaces of belonging. Each year\, thousands of executives\, ERG leaders\, inclusion and HR professionals\, talent strategists\, and changemakers come together for an experience that informs\, inspires\, and ignites action.&nbsp\;</span></span></span></strong></div>\n\n<div helvetica="" min-width:="" unset=""><strong><span style="color:#696969\;"><span style="font-size:14px\;"><span style="font-family:verdana\;">For nearly three decades\, Out &amp\; Equal has hosted this landmark event to advance LGBTQ+ workplace inclusion delivering high-impact programming\, meaningful networking\, and the business strategies that shape the future of work.&nbsp\;In a rapidly shifting workplace and social landscape\, Summit is where clarity\, strategy\, and community come together.&nbsp\;Whether you&rsquo\;re driving change from the boardroom or building power from your ERG\, Summit equips you to return to your workplace ready to lead boldly.</span></span></span></strong></div>\n
LOCATION:Seattle\, Washington
UID:e.2195.7845
SEQUENCE:3
DTSTAMP:20260424T222850Z
URL:https://business.thinkplexus.org/events/details/out-equal-workplace-summit-7845
END:VEVENT

END:VCALENDAR
