BEGIN:VCALENDAR
VERSION:2.0
PRODID:-//ChamberMaster//Event Calendar 2.0//EN
METHOD:PUBLISH
X-PUBLISHED-TTL:P3D
REFRESH-INTERVAL:P3D
CALSCALE:GREGORIAN
BEGIN:VEVENT
DTSTART:20260430T193000Z
DTEND:20260430T203000Z
X-MICROSOFT-CDO-ALLDAYEVENT:FALSE
SUMMARY:NGLCC Sip & Pitch
DESCRIPTION:Join NGLCC & Plexus at the upcoming April Sip & Pitch program. Sip & Pitch is a virtual event where LGBTQ+ and interested and allied suppliers pitch their businesses to a panel of experts and corporate partners for feedback in a fun\, informal setting. It's a great way to discover new businesses\, offer insights\, and build\n\nmeaningful connections.\n\n \n\nThis month is a special Pride Guide of Sip & Pitch\, which will highlight businesses selected for the upcoming NGLCC Pride Guide\, showcasing innovative products and services across industries. Whether you're looking to connect with diverse suppliers\, grow your network\, or just learn more about incredible LGBTQ+ and allied-owned businesses\, mark your calendars for this\n\nevent!
X-ALT-DESC;FMTTYPE=text/html:<div><span style="font-size:14px\;"><span style="font-family:verdana\;"><span style="color:#696969\;"><strong>Join NGLCC &amp\; Plexus at the upcoming April Sip &amp\; Pitch program.&nbsp\;</strong></span></span></span><strong style="color: rgb(105\, 105\, 105)\; font-family: verdana\; font-size: 14px\;">Sip &amp\; Pitch is a virtual event where LGBTQ+ and interested and allied&nbsp\;</strong><span style="font-size:14px\;"><span style="font-family:verdana\;"><span style="color:#696969\;"><strong>suppliers pitch their businesses to a panel of experts and corporate partners for feedback in a&nbsp\;</strong></span></span></span><span style="font-size:14px\;"><span style="font-family:verdana\;"><span style="color:#696969\;"><strong>fun\, informal setting. It&rsquo\;s a great way to discover new businesses\, offer insights\, and build</strong></span></span></span></div>\n\n<div><span style="font-size:14px\;"><span style="font-family:verdana\;"><span style="color:#696969\;"><strong>meaningful connections.</strong></span></span></span><br />\n&nbsp\;</div>\n\n<div><span style="font-size:14px\;"><span style="font-family:verdana\;"><span style="color:#696969\;"><strong>This month is a special Pride Guide of Sip &amp\; Pitch\, which will highlight businesses selected for&nbsp\;</strong></span></span></span><span style="font-size:14px\;"><span style="font-family:verdana\;"><span style="color:#696969\;"><strong>the upcoming NGLCC Pride Guide\, showcasing innovative products and services across&nbsp\;</strong></span></span></span><span style="font-size:14px\;"><span style="font-family:verdana\;"><span style="color:#696969\;"><strong>industries. Whether you&#39\;re looking to connect with diverse suppliers\, grow your network\, or just&nbsp\;</strong></span></span></span><span style="font-size:14px\;"><span style="font-family:verdana\;"><span style="color:#696969\;"><strong>learn more about incredible LGBTQ+ and allied-owned businesses\, mark your calendars for this</strong></span></span></span></div>\n\n<div><span style="font-size:14px\;"><span style="font-family:verdana\;"><span style="color:#696969\;"><strong>event!</strong></span></span></span></div>\n
LOCATION:Register at https://us06web.zoom.us/meeting/register/aIEMiUEwRoSsfQCy2lxZFA
UID:e.2195.8743
SEQUENCE:3
DTSTAMP:20260420T204901Z
URL:https://business.thinkplexus.org/events/details/nglcc-sip-pitch-8743
END:VEVENT

END:VCALENDAR
