BEGIN:VCALENDAR
VERSION:2.0
PRODID:-//ChamberMaster//Event Calendar 2.0//EN
METHOD:PUBLISH
X-PUBLISHED-TTL:P3D
REFRESH-INTERVAL:P3D
CALSCALE:GREGORIAN
BEGIN:VEVENT
DTSTART:20260520T170000Z
DTEND:20260520T180000Z
X-MICROSOFT-CDO-ALLDAYEVENT:FALSE
SUMMARY:Money With Pride: Holistic Financial Planning for LGBTQIA+ & Allied Business Owners
DESCRIPTION:Running a business is personal especially for LGBTQIA+ & Allied entrepreneurs. Money With Pride is an engaging\, interactive session that helps business owners connect their values\, identity\, and long term vision to their financial decisions. Attendees will explore how purpose driven business choices around pricing\, growth\, and operations can support both personal financial security and sustainable business success. This session introduces a holistic\, values aligned approach to financial planning that goes beyond short term goals\, helping business owners think intentionally about wealth\, stability\, and the future they're building.\n\n \n\nWhat You'll Learn\n\n\n	\n	How identity and values influence money decisions and business strategy\n	\n	\n	Ways to design a purpose driven business that supports long term sustainability\n	\n	\n	The key components of holistic financial planning for business owners\n	\n	\n	How to translate business success into long term personal wealth and security\n	\n\n\n \nJoin NGLCC and Plexus for a session that is ideal for business owners who want clarity\, confidence\, and a values first approach to building financial well being without sacrificing purpose or community.
X-ALT-DESC;FMTTYPE=text/html:<p dir="ltr" style="line-height:1.38\;margin-top:0pt\;margin-bottom:0pt\;"><span style="font-size:14px\;"><span style="font-family:verdana\;"><span style="color:#696969\;"><strong><span id="docs-internal-guid-f6427930-7fff-d2d9-c001-eb9a55668586"><span style="background-color: transparent\; font-variant: normal\; vertical-align: baseline\; white-space: pre-wrap\;">Running a business is personal&mdash\;especially for LGBTQIA+ &amp\; Allied entrepreneurs. </span><span style="background-color: transparent\; font-weight: 700\; font-variant: normal\; vertical-align: baseline\; white-space: pre-wrap\;">Money With Pride</span><span style="background-color: transparent\; font-variant: normal\; vertical-align: baseline\; white-space: pre-wrap\;"> is an engaging\, interactive session that helps business owners connect their values\, identity\, and long&#8209\;term vision to their financial decisions. Attendees will explore how purpose&#8209\;driven business choices&mdash\;around pricing\, growth\, and operations&mdash\;can support both personal financial security and sustainable business success. This session introduces a holistic\, values&#8209\;aligned approach to financial planning that goes beyond short&#8209\;term goals\, helping business owners think intentionally about wealth\, stability\, and the future they&rsquo\;re building.</span></span></strong></span></span></span></p>\n\n<p dir="ltr" style="line-height:1.38\;margin-top:0pt\;margin-bottom:0pt\;"><span style="font-size:14px\;"><span style="font-family:verdana\;"><span style="color:#696969\;"><strong><span id="docs-internal-guid-f6427930-7fff-d2d9-c001-eb9a55668586"><span style="background-color: transparent\; font-variant: normal\; vertical-align: baseline\; white-space: pre-wrap\;">&nbsp\;</span></span></strong></span></span></span></p>\n\n<p dir="ltr" style="line-height:1.38\;margin-top:0pt\;margin-bottom:0pt\;"><span style="font-size:14px\;"><span style="font-family:verdana\;"><span style="color:#696969\;"><strong><span id="docs-internal-guid-f6427930-7fff-d2d9-c001-eb9a55668586"><span style="background-color: transparent\; font-variant: normal\; vertical-align: baseline\; white-space: pre-wrap\;">What You&rsquo\;ll Learn</span></span></strong></span></span></span></p>\n\n<ul style="margin-top:0\;margin-bottom:0\;padding-inline-start:48px\;">\n	<li aria-level="1" dir="ltr" style="list-style-type: disc\; font-size: 11pt\; font-family: Arial\, sans-serif\; color: rgb(0\, 0\, 0)\; background-color: transparent\; font-variant: normal\; vertical-align: baseline\; white-space: pre\;">\n	<p dir="ltr" role="presentation" style="line-height:1.38\;margin-top:0pt\;margin-bottom:0pt\;"><span style="font-size:14px\;"><span style="font-family:verdana\;"><span style="color:#696969\;"><strong><span id="docs-internal-guid-f6427930-7fff-d2d9-c001-eb9a55668586"><span style="background-color: transparent\; font-variant: normal\; vertical-align: baseline\; white-space: pre-wrap\;">How identity and values influence money decisions and business strategy</span></span></strong></span></span></span></p>\n	</li>\n	<li aria-level="1" dir="ltr" style="list-style-type: disc\; font-size: 11pt\; font-family: Arial\, sans-serif\; color: rgb(0\, 0\, 0)\; background-color: transparent\; font-variant: normal\; vertical-align: baseline\; white-space: pre\;">\n	<p dir="ltr" role="presentation" style="line-height:1.38\;margin-top:0pt\;margin-bottom:0pt\;"><span style="font-size:14px\;"><span style="font-family:verdana\;"><span style="color:#696969\;"><strong><span id="docs-internal-guid-f6427930-7fff-d2d9-c001-eb9a55668586"><span style="background-color: transparent\; font-variant: normal\; vertical-align: baseline\; white-space: pre-wrap\;">Ways to design a purpose&#8209\;driven business that supports long&#8209\;term sustainability</span></span></strong></span></span></span></p>\n	</li>\n	<li aria-level="1" dir="ltr" style="list-style-type: disc\; font-size: 11pt\; font-family: Arial\, sans-serif\; color: rgb(0\, 0\, 0)\; background-color: transparent\; font-variant: normal\; vertical-align: baseline\; white-space: pre\;">\n	<p dir="ltr" role="presentation" style="line-height:1.38\;margin-top:0pt\;margin-bottom:0pt\;"><span style="font-size:14px\;"><span style="font-family:verdana\;"><span style="color:#696969\;"><strong><span id="docs-internal-guid-f6427930-7fff-d2d9-c001-eb9a55668586"><span style="background-color: transparent\; font-variant: normal\; vertical-align: baseline\; white-space: pre-wrap\;">The key components of holistic financial planning for business owners</span></span></strong></span></span></span></p>\n	</li>\n	<li aria-level="1" dir="ltr" style="list-style-type: disc\; font-size: 11pt\; font-family: Arial\, sans-serif\; color: rgb(0\, 0\, 0)\; background-color: transparent\; font-variant: normal\; vertical-align: baseline\; white-space: pre\;">\n	<p dir="ltr" role="presentation" style="line-height:1.38\;margin-top:0pt\;margin-bottom:0pt\;"><span style="font-size:14px\;"><span style="font-family:verdana\;"><span style="color:#696969\;"><strong><span id="docs-internal-guid-f6427930-7fff-d2d9-c001-eb9a55668586"><span style="background-color: transparent\; font-variant: normal\; vertical-align: baseline\; white-space: pre-wrap\;">How to translate business success into long&#8209\;term personal wealth and security</span></span></strong></span></span></span></p>\n	</li>\n</ul>\n\n<p dir="ltr" style="line-height:1.38\;margin-top:0pt\;margin-bottom:0pt\;"><span style="font-size:14px\;"><span style="font-family:verdana\;"><span style="color:#696969\;"><strong><span id="docs-internal-guid-f6427930-7fff-d2d9-c001-eb9a55668586"><span style="background-color: transparent\; font-variant: normal\; vertical-align: baseline\; white-space: pre-wrap\;">&nbsp\;</span></span></strong></span></span></span></p>\n<span style="font-size:14px\;"><span style="font-family:verdana\;"><span style="color:#696969\;"><strong><span id="docs-internal-guid-f6427930-7fff-d2d9-c001-eb9a55668586"><span style="background-color: transparent\; font-variant: normal\; vertical-align: baseline\; white-space: pre-wrap\;">Join NGLCC and Plexus </span><span style="background-color: transparent\; font-variant: normal\; vertical-align: baseline\; white-space: pre-wrap\;">for a session that is ideal for business owners who want clarity\, confidence\, and a values&#8209\;first approach to building financial well&#8209\;being&mdash\;without sacrificing purpose or community.</span></span></strong></span></span></span>
LOCATION:Virtual
UID:e.2195.8746
SEQUENCE:3
DTSTAMP:20260424T154845Z
URL:https://business.thinkplexus.org/events/details/money-with-pride-holistic-financial-planning-for-lgbtqia-allied-business-owners-8746
END:VEVENT

END:VCALENDAR
