BEGIN:VCALENDAR
VERSION:2.0
PRODID:-//ChamberMaster//Event Calendar 2.0//EN
METHOD:PUBLISH
X-PUBLISHED-TTL:P3D
REFRESH-INTERVAL:P3D
CALSCALE:GREGORIAN
BEGIN:VEVENT
DTSTART:20260227T150000Z
DTEND:20260227T160000Z
X-MICROSOFT-CDO-ALLDAYEVENT:FALSE
SUMMARY:Making the Most of Your Plexus Business Directory Page
DESCRIPTION:Plexus Business Members have a dedicated directory webpage with built-in SEO. The more enhanced and updated pages get the most traction from search and the public looking for affirming services. We also know that ChatGPT and other LLM's are looking for recent and robust content.\n\n\n\nJoin this hands-on workshop as we review your directory site\, demonstrate how you can enhance your content\, and update your directory page in real-time.\n\n\n\nCan't make it? Join our monthly New Member Meet & Greets\, 2nd Fridays at 9am or request an individual meeting for a hands-on tour.
X-ALT-DESC;FMTTYPE=text/html:<span style="font-size:14px\;"><span style="font-family:verdana\;"><span style="color:#696969\;"><strong>Plexus Business Members have a dedicated directory webpage with built-in SEO. The more enhanced and updated pages get the most traction from search and the&nbsp\;public looking for affirming services. We also know that ChatGPT and other LLM&#39\;s are looking for recent and robust content.<br />\n<br />\nJoin this hands-on workshop as we review your directory site\, demonstrate how you can enhance your content\, and update your directory page in real-time.<br />\n<br />\nCan&#39\;t make it? Join our monthly New Member Meet &amp\; Greets\, 2nd Fridays at 9am or request an individual meeting for a hands-on tour.</strong></span></span></span>
LOCATION:Zoom https://us02web.zoom.us/meeting/register/ikYCbRtoTB2L8cC_qHGjnA
UID:e.2195.8454
SEQUENCE:3
DTSTAMP:20260424T161023Z
URL:https://business.thinkplexus.org/events/details/making-the-most-of-your-plexus-business-directory-page-8454
END:VEVENT

END:VCALENDAR
