BEGIN:VCALENDAR
VERSION:2.0
PRODID:-//ChamberMaster//Event Calendar 2.0//EN
METHOD:PUBLISH
X-PUBLISHED-TTL:P3D
REFRESH-INTERVAL:P3D
CALSCALE:GREGORIAN
BEGIN:VEVENT
DTSTART:20251017T203000Z
DTEND:20251017T220000Z
X-MICROSOFT-CDO-ALLDAYEVENT:FALSE
SUMMARY:Kent Rainbow Weekend Social Hour
DESCRIPTION:Bring in the weekend and shake off the week with us!  \n\nJoin Plexus LGBT & Allied Chamber of Commerce\, Leadership Portage County\, and the Kent Area Chamber of Commerce for a casual networking social to kick off Kent Rainbow Weekend. Our theme this year: Visibility is Victory because showing up matters\, and so does community.\n\nWhat to Expect:\n\n\n	Free\, fun & funky headshots\n	A warm\, inclusive space to connect with LGBTQ+ and allied professionals.\n	Self-pay bar and light snacks provided.\n	First drink is on us for Plexus members!\n\n\nAfter we wrap\, head over to Last Exit Books for Courageously Queer Storytelling an evening of powerful voices and shared experiences.\n\nThis event is free and open to all. Whether you're a local professional\, a student\, or just looking for connection\, you belong here.\n\nHosted by allied business Laziza\, because allies make the difference.
X-ALT-DESC;FMTTYPE=text/html:<p><span style="color:#696969\;"><strong><span style="font-size:14px\;"><span style="font-family:verdana\;">Bring in the weekend and shake off the week with us! &#127752\;<br />\nJoin </span></span></strong></span><span style="color:#ec2091\;"><strong><span style="font-size:14px\;"><span style="font-family:verdana\;">Plexus LGBT &amp\; Allied Chamber of Commerce</span></span></strong></span><span style="color:#696969\;"><strong><span style="font-size:14px\;"><span style="font-family:verdana\;">\,</span></span></strong></span><span style="color:#ec2091\;"><strong><span style="font-size:14px\;"><span style="font-family:verdana\;"> Leadership Portage County</span></span></strong></span><span style="color:#696969\;"><strong><span style="font-size:14px\;"><span style="font-family:verdana\;">\, and the </span></span></strong></span><span style="color:#ec2091\;"><strong><span style="font-size:14px\;"><span style="font-family:verdana\;">Kent Area Chamber of Commerce</span></span></strong></span><span style="color:#696969\;"><strong><span style="font-size:14px\;"><span style="font-family:verdana\;"> for a casual networking social to kick off Kent Rainbow Weekend. Our theme this year: Visibility is Victory&mdash\;because showing up matters\, and so does community.<br />\nWhat to Expect:</span></span></strong></span></p>\n\n<ul>\n	<li><span style="color:#696969\;"><strong><span style="font-size:14px\;"><span style="font-family:verdana\;">Free\, fun &amp\; funky headshots</span></span></strong></span></li>\n	<li><span style="color:#696969\;"><strong><span style="font-size:14px\;"><span style="font-family:verdana\;">A warm\, inclusive space to connect with LGBTQ+ and allied professionals.</span></span></strong></span></li>\n	<li><span style="color:#696969\;"><strong><span style="font-size:14px\;"><span style="font-family:verdana\;">Self-pay bar and light snacks provided.</span></span></strong></span></li>\n	<li><span style="color:#696969\;"><strong><span style="font-size:14px\;"><span style="font-family:verdana\;">First drink is on us for Plexus members!</span></span></strong></span></li>\n</ul>\n\n<p><span style="color:#696969\;"><strong><span style="font-size:14px\;"><span style="font-family:verdana\;">After we wrap\, head over to Last Exit Books for Courageously Queer Storytelling&mdash\;an evening of powerful voices and shared experiences.<br />\nThis event is free and open to all. Whether you&rsquo\;re a local professional\, a student\, or just looking for connection\, you belong here.</span></span></strong></span><br />\n<span style="color:#ec2091\;"><strong><span style="font-size:14px\;"><span style="font-family:verdana\;">Hosted by allied business Laziza\, because allies make the difference.</span></span></strong></span></p>\n
LOCATION:Laziza 195 E Erie St\, Kent\, OH
UID:e.2195.7843
SEQUENCE:3
DTSTAMP:20260424T222821Z
URL:https://business.thinkplexus.org/events/details/kent-rainbow-weekend-social-hour-7843
END:VEVENT

END:VCALENDAR
