BEGIN:VCALENDAR
VERSION:2.0
PRODID:-//ChamberMaster//Event Calendar 2.0//EN
METHOD:PUBLISH
X-PUBLISHED-TTL:P3D
REFRESH-INTERVAL:P3D
CALSCALE:GREGORIAN
BEGIN:VEVENT
DTSTART:20210624T210000Z
DTEND:20210624T220000Z
X-MICROSOFT-CDO-ALLDAYEVENT:FALSE
SUMMARY:June 2021 Virtual Speed Networking
DESCRIPTION:The Collaborative Chamber Alliance brings together 16 Northeast Ohio Chambers to maximize your connections and expand your network. Speed networking is the perfect way to make your pitch and walk away with new business opportunities.
X-ALT-DESC;FMTTYPE=text/html:<span style="color:#696969\;"><span style="font-size:14px\;"><span style="font-family:verdana\;">The <strong>Collaborative Chamber Alliance</strong> brings together 16 Northeast Ohio Chambers to maximize your connections and expand your network. Speed networking is the perfect way to make your pitch and walk away with new business opportunities.&nbsp\;</span></span></span>
LOCATION:Join us on Zoom https://us02web.zoom.us/j/82216044332?pwd=bER5MlI2d3djNmQ0RFVZQ3Avc2FFdz09 Meeting ID: 822 1604 4332 Passcode: 929792
UID:e.2195.2857
SEQUENCE:3
DTSTAMP:20260421T025322Z
URL:https://business.thinkplexus.org/events/details/june-2021-virtual-speed-networking-2857
END:VEVENT

END:VCALENDAR
