BEGIN:VCALENDAR
VERSION:2.0
PRODID:-//ChamberMaster//Event Calendar 2.0//EN
METHOD:PUBLISH
X-PUBLISHED-TTL:P3D
REFRESH-INTERVAL:P3D
CALSCALE:GREGORIAN
BEGIN:VEVENT
DTSTART:20250913T013000Z
DTEND:20250913T030000Z
X-MICROSOFT-CDO-ALLDAYEVENT:FALSE
SUMMARY:Jester's Privilege - A Silly Drag King Show
DESCRIPTION:Get into the creepy crawly spirit while having a chuckle! Join Cleveland's 5th best drag king\, Abel N. Willing\, for a special\, spooky installment of Jester's Privilege\, a silly drag king show. Abel will be joined by Marquis Gaylord\, Sir Guy\, AndroNTT and Rubber Duckie for a night of laughs and drag. Abel N. Willing is a Northeast Ohio drag king. He uses his background in sketch comedy to propel his unique and campy performances. In December 2023\, he became the first drag king to win Kingpin\, one of the nation's first multi-week drag king competitions. From giving birth to a puppet to impersonating historical figures or even busting out the occasional dance move\, Abel always keeps his audience entertained and laughing with his unpredictable\, high-energy acts.
X-ALT-DESC;FMTTYPE=text/html:<span style="color:#696969\;"><strong><span style="font-family:verdana\;"><span style="font-size:14px\;">Get into the creepy crawly spirit while having a chuckle! Join Cleveland&#39\;s 5th best drag king\, Abel N. Willing\, for a special\, spooky installment of Jester&#39\;s Privilege\, a silly drag king show. Abel will be joined by Marquis Gaylord\, Sir Guy\, AndroNTT and Rubber Duckie for a night of laughs and drag. Abel N. Willing is a Northeast Ohio drag king. He uses his background in sketch comedy to propel his unique and campy performances. In December 2023\, he became the first drag king to win Kingpin\, one of the nation&rsquo\;s first multi-week drag king competitions. From giving birth to a puppet to impersonating historical figures or even busting out the occasional dance move\, Abel always keeps his audience entertained and laughing with his unpredictable\, high-energy acts.</span></span></strong></span>
LOCATION:Imposter's Theater 4828 Lorain Avenue Cleveland\, Ohio 44102
UID:e.2195.7848
SEQUENCE:3
DTSTAMP:20260425T001109Z
URL:https://business.thinkplexus.org/events/details/jester-s-privilege-a-silly-drag-king-show-7848
END:VEVENT

END:VCALENDAR
