BEGIN:VCALENDAR
VERSION:2.0
PRODID:-//ChamberMaster//Event Calendar 2.0//EN
METHOD:PUBLISH
X-PUBLISHED-TTL:P3D
REFRESH-INTERVAL:P3D
CALSCALE:GREGORIAN
BEGIN:VEVENT
DTSTART:20250816T150000Z
DTEND:20250816T170000Z
X-MICROSOFT-CDO-ALLDAYEVENT:FALSE
SUMMARY:Illuminating Our VOICES
DESCRIPTION:Join Sisters of Economic Action for a dynamic writing workshop designed to uplift and empower your voice. Whether you're a seasoned writer or just starting out\, this event will help you harness the power of your words to express\, advocate\, and inspire!
X-ALT-DESC;FMTTYPE=text/html:Join Sisters of Economic Action for a dynamic writing workshop designed to uplift and empower your voice. Whether you&#39\;re a seasoned writer or just starting out\, this event will help you harness the power of your words to express\, advocate\, and inspire!
LOCATION:2600 South Park Boulevard Cleveland\, OH 44120
UID:e.2195.7526
SEQUENCE:3
DTSTAMP:20260425T030422Z
URL:https://business.thinkplexus.org/events/details/illuminating-our-voices-7526
END:VEVENT

END:VCALENDAR
