BEGIN:VCALENDAR
VERSION:2.0
PRODID:-//ChamberMaster//Event Calendar 2.0//EN
METHOD:PUBLISH
X-PUBLISHED-TTL:P3D
REFRESH-INTERVAL:P3D
CALSCALE:GREGORIAN
BEGIN:VEVENT
DTSTART:20210427T213000Z
DTEND:20210427T223000Z
X-MICROSOFT-CDO-ALLDAYEVENT:FALSE
SUMMARY:[HOSTED BY MEMBER] Outsmart the Scammer
DESCRIPTION:You Have the Power to Outsmart the Scammers.\n\nIncidents of fraud are on the rise and scammers' tactics are becoming more complex.* That's why it's so important to educate yourself about fraud. And while no one is immune\, there are steps you can take to Outsmart the Scammers.\n\nJoin us for this presentation and learn important strategies to help safeguard you and the ones you love. We will share information on how to spot certain red flags that may indicate a fraudulent encounter\, resources you can turn to if you or a loved one is targeted\, and steps you can take now to help stay protected.
X-ALT-DESC;FMTTYPE=text/html:<p><strong>You Have the Power to Outsmart the Scammers.</strong></p>\n\n<p style="margin-left:0px\; margin-right:0px">Incidents of fraud are on the rise and scammers&#39\; tactics are becoming more complex.* That&#39\;s why it&#39\;s so important to educate yourself about fraud. And while no one is immune\, there are steps you can take to Outsmart the Scammers.</p>\n\n<p style="margin-left:0px\; margin-right:0px">Join us for this presentation and learn important strategies to help safeguard you and the ones you love. We will share information on how to spot certain red flags that may indicate a fraudulent encounter\, resources you can turn to if you or a loved one is targeted\, and steps you can take now to help stay protected.</p>\n
LOCATION:Virtual Zoom-Please register using the link below. https://edwardjones.zoom.us/webinar/register/WN_pKDcyLH4QY6UU-nh5WkqIQ
UID:e.2195.1821
SEQUENCE:3
DTSTAMP:20260424T032034Z
URL:https://business.thinkplexus.org/events/details/hosted-by-member-outsmart-the-scammer-1821
END:VEVENT

END:VCALENDAR
