BEGIN:VCALENDAR
VERSION:2.0
PRODID:-//ChamberMaster//Event Calendar 2.0//EN
METHOD:PUBLISH
X-PUBLISHED-TTL:P3D
REFRESH-INTERVAL:P3D
CALSCALE:GREGORIAN
BEGIN:VEVENT
DTSTART:20210624T210000Z
DTEND:20210625T000000Z
X-MICROSOFT-CDO-ALLDAYEVENT:FALSE
SUMMARY:History on Tap: PRIDE
DESCRIPTION:In celebration of Pride Month\, the Cleveland History Center is shining the spotlight on Cleveland's LGBTQ+ history with History on Tap: PRIDE. Join us at the Cleveland History Center on June 24 for a historic happy hour celebrating Cleveland's LGBTQ+ community\, from its origins to the modern day.\n\nThe event will open with a brief presentation from our Cleveland history experts\, followed by a networking opportunity designed to connect participants with the LGBTQ+ organizations within the community. Then\, join us in the garden of our Bingham-Hanna Mansion to enjoy live music by the Dane Vannatter Trio\, and explore our museum galleries\, including our newest exhibit\, Women & Politics\, to learn about the LGBTQ+ trailblazers represented in the WRHS collection. A cash bar will be available (beer and wine only)\, and light refreshments will be offered for purchase.
X-ALT-DESC;FMTTYPE=text/html:<p><span style="font-size:14px\;"><span style="font-family:tahoma\;"><span style="color:#343532\;">In celebration of Pride Month\, the Cleveland History Center is shining the spotlight on Cleveland&rsquo\;s LGBTQ+ history with&nbsp\;</span><strong><em><span style="border:none windowtext 1.0pt\;padding:0in\;"><span style="color:#343532\;">History on Tap: PRIDE</span></span></em></strong><span style="color:#343532\;">. Join us at the Cleveland History Center on June 24 for a historic happy hour celebrating Cleveland&rsquo\;s LGBTQ+ community\, from its origins to the modern day.</span><br />\n<span style="color:#343532\;">The event will open with a brief presentation from our Cleveland history experts\, followed by a networking opportunity designed to connect participants with the LGBTQ+ organizations within the community. Then\, join us in the garden of our Bingham-Hanna Mansion to enjoy live music by the&nbsp\;<a href="https://danevannatter.com/"><span style="border:none windowtext 1.0pt\;padding:0in\;"><span style="color:#9E2224\;">Dane Vannatter Trio</span></span></a>\, and explore our museum galleries\, including our newest exhibit\,&nbsp\;</span><em><span style="border:none windowtext 1.0pt\;padding:0in\;"><span style="color:#343532\;">Women &amp\; Politics</span></span></em><span style="color:#343532\;">\, to learn about the LGBTQ+ trailblazers represented in the WRHS collection. A cash bar will be available (beer and wine only)\, and light refreshments will be offered for purchase.</span></span></span></p>\n
LOCATION:
UID:e.2195.2883
SEQUENCE:3
DTSTAMP:20260420T173752Z
URL:https://business.thinkplexus.org/events/details/history-on-tap-pride-2883
END:VEVENT

END:VCALENDAR
