BEGIN:VCALENDAR
VERSION:2.0
PRODID:-//ChamberMaster//Event Calendar 2.0//EN
METHOD:PUBLISH
X-PUBLISHED-TTL:P3D
REFRESH-INTERVAL:P3D
CALSCALE:GREGORIAN
BEGIN:VEVENT
DTSTART:20250823T150000Z
DTEND:20250823T200000Z
X-MICROSOFT-CDO-ALLDAYEVENT:FALSE
SUMMARY:Hi\, Fashion 2025
DESCRIPTION:Hi\, Fashion 2025\n\nDate: August 23rd\n\nTime: 11am-4pm\n\nLocation: 6706 Detroit Ave\n\nDiscover how style and sustainability go hand in hand through a day packed with engaging\, family-friendly activities\, inspiring talks\, and hands-on workshops. Whether you're a fashion lover\, eco-enthusiast\, or curious learner\, there?s something for everyone to enjoy while making a positive impact on the planet.
X-ALT-DESC;FMTTYPE=text/html:<p><strong>Hi\, Fashion 2025</strong></p>\n\n<p><strong>Date:</strong>&nbsp\;August 23rd</p>\n\n<p><strong>Time:</strong>&nbsp\;11am-4pm</p>\n\n<p><strong>Location:</strong>&nbsp\;6706 Detroit Ave</p>\n\n<p>Discover how style and sustainability go hand in hand through a day packed with engaging\, family-friendly activities\, inspiring talks\, and hands-on workshops. Whether you're a fashion lover\, eco-enthusiast\, or curious learner\, there?s something for everyone to enjoy while making a positive impact on the planet.</p>\n
LOCATION:6706 Detroit Avenue\, Cleveland\, OH 44102 United States
UID:e.2195.7524
SEQUENCE:3
DTSTAMP:20260425T014642Z
URL:https://business.thinkplexus.org/events/details/hi-fashion-2025-7524
END:VEVENT

END:VCALENDAR
