BEGIN:VCALENDAR
VERSION:2.0
PRODID:-//ChamberMaster//Event Calendar 2.0//EN
METHOD:PUBLISH
X-PUBLISHED-TTL:P3D
REFRESH-INTERVAL:P3D
CALSCALE:GREGORIAN
BEGIN:VEVENT
DTSTART:20260201T160000Z
DTEND:20260201T190000Z
X-MICROSOFT-CDO-ALLDAYEVENT:FALSE
SUMMARY:Glitz and Hitz Cabaret and Drag Brunch with the North Coast Men's Chorus
DESCRIPTION:Join us for a fabulous fundraising brunch featuring sensational singers from the North Coast Men's Chorus and dazzling drag queens from Cleveland! Enjoy a lively afternoon of music\, laughter\, and high-energy performances all in support of NCMC's mission of high-quality musical entertainment and support for our queer community! Don't miss this fun celebration of talent\, glamour\, and giving back!
X-ALT-DESC;FMTTYPE=text/html:<span style="font-family:verdana\;"><span style="color:#696969\;"><strong><span style="font-size: 14px\;">Join us for a fabulous fundraising brunch featuring sensational singers from the North Coast Men&rsquo\;s Chorus and dazzling drag queens from Cleveland! Enjoy a lively afternoon of music\, laughter\, and high-energy performances&mdash\;all in support of NCMC&rsquo\;s mission of high-quality musical entertainment and support for our queer community! Don&rsquo\;t miss this fun celebration of talent\, glamour\, and giving back!</span></strong></span></span>
LOCATION:Music Box - 1148 Main Avenue Cleveland\, OH 44113
UID:e.2195.8372
SEQUENCE:3
DTSTAMP:20260424T175023Z
URL:https://business.thinkplexus.org/events/details/glitz-and-hitz-cabaret-and-drag-brunch-with-the-north-coast-men-s-chorus-8372
END:VEVENT

END:VCALENDAR
