BEGIN:VCALENDAR
VERSION:2.0
PRODID:-//ChamberMaster//Event Calendar 2.0//EN
METHOD:PUBLISH
X-PUBLISHED-TTL:P3D
REFRESH-INTERVAL:P3D
CALSCALE:GREGORIAN
BEGIN:VEVENT
DTSTART:20210608T220000Z
DTEND:20210608T230000Z
X-MICROSOFT-CDO-ALLDAYEVENT:FALSE
SUMMARY:Get to Know Plexus: Virtual Information Session
DESCRIPTION:We would love to add you as a member in 2021 and realize membership is a commitment. It is important for prospective members to understand the benefits they would receive from Plexus before making the decision to join. That is why we are hosting Prospective Member Information Session Webinars for prospective members to learn more about the work we have done on behalf of the LGBT community\, and how a Plexus membership can benefit you and your business. The session will include a brief presentation about the organization's activities\, a Q&A session\, and information on how to join.
X-ALT-DESC;FMTTYPE=text/html:<p style="box-sizing: inherit\; border: 0px\; font-family: &quot\;Open Sans&quot\;\, Helvetica\, Arial\, sans-serif\; font-size: 17px\; margin: 0px 0px 15px\; outline: 0px\; padding: 0px\; vertical-align: baseline\; line-height: 25px\; color: rgb(64\, 64\, 64)\;"><span style="font-family:tahoma\;">We would love to add you as a member in 2021&nbsp\;and realize membership is a commitment. It is important for prospective members to understand the benefits they would receive from Plexus before making the decision to join.&nbsp\;That is why we are hosting&nbsp\;<strong style="color: rgb(63\, 63\, 63)\; font-family: &quot\;Open Sans&quot\;\; font-size: 16px\;">Prospective Member Information Session Webinars&nbsp\;</strong>for prospective members to learn more about the work we have done on behalf of the LGBT community\, and how a Plexus membership can benefit you and your business.&nbsp\;The session will include a brief presentation about the organization&#39\;s&nbsp\;activities\, a Q&amp\;A session\, and information on how to join.</span></p>\n
LOCATION:Zoom link sent upon registration.
UID:e.2195.2844
SEQUENCE:3
DTSTAMP:20260420T180510Z
URL:https://business.thinkplexus.org/events/details/get-to-know-plexus-virtual-information-session-2844
END:VEVENT

END:VCALENDAR
