BEGIN:VCALENDAR
VERSION:2.0
PRODID:-//ChamberMaster//Event Calendar 2.0//EN
METHOD:PUBLISH
X-PUBLISHED-TTL:P3D
REFRESH-INTERVAL:P3D
CALSCALE:GREGORIAN
BEGIN:VEVENT
DTSTART:20210225T220000Z
DTEND:20210225T230000Z
X-MICROSOFT-CDO-ALLDAYEVENT:FALSE
SUMMARY:February Virtual Speed Networking
DESCRIPTION:The Collaborative Chamber Alliance brings together 16 Northeast Ohio Chambers to maximize your connections and expand your network. Speed networking is the perfect way to make your pitch and walk away with new business opportunities.
X-ALT-DESC;FMTTYPE=text/html:<span style="color:#696969\;"><span style="font-size:14px\;"><span style="font-family:verdana\;">The <strong>Collaborative Chamber Alliance</strong> brings together 16 Northeast Ohio Chambers to maximize your connections and expand your network. Speed networking is the perfect way to make your pitch and walk away with new business opportunities.&nbsp\;</span></span></span>
LOCATION:Join us on Zoom Meeting ID: 813 1950 4276 Passcode: 239730
UID:e.2195.1789
SEQUENCE:3
DTSTAMP:20260424T000947Z
URL:https://business.thinkplexus.org/events/details/february-virtual-speed-networking-1789
END:VEVENT

END:VCALENDAR
