BEGIN:VCALENDAR
VERSION:2.0
PRODID:-//ChamberMaster//Event Calendar 2.0//EN
METHOD:PUBLISH
X-PUBLISHED-TTL:P3D
REFRESH-INTERVAL:P3D
CALSCALE:GREGORIAN
BEGIN:VEVENT
DTSTART:20260114T213000Z
DTEND:20260114T233000Z
X-MICROSOFT-CDO-ALLDAYEVENT:FALSE
SUMMARY:ERG Council: Plexus at Swagelok – Kick Off the New Year with Networking & Inspiration!
DESCRIPTION:We're thrilled to welcome you to Swagelok for a Plexus networking and learning event! Start 2026 by connecting with peers\, sharing ideas\, and discovering how ERGs can transform workplace culture. This session is all about building relationships\, sparking innovation\, and setting the tone for an impactful year ahead.\n\n\n\nPre-Registration is required. Register closes on Jan. 9th.
X-ALT-DESC;FMTTYPE=text/html:<!--StartFragment--><!--StartFragment--><span style="font-size:14px\;"><span style="font-family:verdana\;"><span style="color:#696969\;"><strong><span data-olk-copy-source="MessageBody">We&rsquo\;re thrilled to welcome you to Swagelok for a Plexus networking and learning event! Start 2026 by connecting with peers\, sharing ideas\, and discovering how ERGs can transform workplace culture. This session is all about building relationships\, sparking innovation\, and setting the tone for an impactful year ahead.</span></strong></span></span></span><!--EndFragment--><!--EndFragment--><br />\n<br />\n<span style="font-size:14px\;"><span style="font-family:verdana\;"><span style="color:#696969\;"><strong>Pre-Registration is required. Register closes on Jan. 9th.</strong></span></span></span>
LOCATION:Swagelok Headquarters 29500 Solon Rd Solon\, OH 44139
UID:e.2195.8300
SEQUENCE:3
DTSTAMP:20260424T193310Z
URL:https://business.thinkplexus.org/events/details/erg-council-plexus-at-swagelok-kick-off-the-new-year-with-networking-inspiration-8300
END:VEVENT

END:VCALENDAR
