BEGIN:VCALENDAR
VERSION:2.0
PRODID:-//ChamberMaster//Event Calendar 2.0//EN
METHOD:PUBLISH
X-PUBLISHED-TTL:P3D
REFRESH-INTERVAL:P3D
CALSCALE:GREGORIAN
BEGIN:VEVENT
DTSTART:20260211T203000Z
DTEND:20260211T220000Z
X-MICROSOFT-CDO-ALLDAYEVENT:FALSE
SUMMARY:ERG Council: Leveraging Listening Labs with Giant Eagle
DESCRIPTION:Listening Labs are a monthly inclusive interactive workshop that focuses on the mental wellbeing of business resource group (BRG) members while simultaneously collaborating with other BRGs to strengthen partnerships and community. GE Proud\, the LGBTQIA BRG\, is the host each month providing a space for team members to collaborate and share thoughts and feelings on specific topics. Each month GE Proud will collaborate with other BRGs across the organization during their commemorative months\, choosing topics that touch both BRGs. These Listening Labs give members a sense of belonging and community while giving them the ability to be heard and talk through emotions. These sessions also help to remove barriers and unconscious biases within and between BRGs.\n\nFollowing this session participants will be able to:\n\n  Structure a listening lab format.\n\n  Determine impactful topics for internal employees.\n\n  Identify meaningful cross ERG partnerships.\n\n  Create a resource for employees aligned with topics discussed.\n\n  Measure impact of listening labs.
X-ALT-DESC;FMTTYPE=text/html:<div data-end="150" data-start="76">\n<div color:="" font-feature-settings:="" font-kerning:="" font-optical-sizing:="" font-size-adjust:="" font-variation-settings:="" helvetica="" margin:="" padding:="" segoe="" ui="" vertical-align:="" web="" west="">\n<p style="color: rgb(0\, 0\, 0)\; font-family: Times\; font-size: medium\;"><span style="font-size:14px\;"><span style="font-family:verdana\;"><span style="color:#696969\;"><strong>Listening Labs are a monthly inclusive interactive workshop that focuses on the mental wellbeing of business resource group (BRG) members while simultaneously collaborating with other BRGs to strengthen partnerships and community. GE Proud\, the LGBTQIA BRG\, is the host each month providing a space for team members to collaborate and share thoughts and feelings on specific topics. Each month GE Proud will collaborate with other BRGs across the organization during their commemorative months\, choosing topics that touch both BRGs. These Listening Labs give members a sense of belonging and community while giving them the ability to be heard and talk through emotions. These sessions also help to remove barriers and unconscious biases within and between BRGs.</strong></span></span></span></p>\n\n<p style="color: rgb(0\, 0\, 0)\; font-family: Times\; font-size: medium\;"><span style="font-size:14px\;"><span style="font-family:verdana\;"><span style="color:#696969\;"><strong>Following this session participants will be able to:</strong></span></span></span></p>\n\n<p style="color: rgb(0\, 0\, 0)\; font-family: Times\; font-size: medium\;"><span style="font-size:14px\;"><span style="font-family:verdana\;"><span style="color:#696969\;"><strong>&middot\; Structure a listening lab format.</strong></span></span></span></p>\n\n<p style="color: rgb(0\, 0\, 0)\; font-family: Times\; font-size: medium\;"><span style="font-size:14px\;"><span style="font-family:verdana\;"><span style="color:#696969\;"><strong>&middot\; Determine impactful topics for internal employees.</strong></span></span></span></p>\n\n<p style="color: rgb(0\, 0\, 0)\; font-family: Times\; font-size: medium\;"><span style="font-size:14px\;"><span style="font-family:verdana\;"><span style="color:#696969\;"><strong>&middot\; Identify meaningful cross ERG partnerships.</strong></span></span></span></p>\n\n<p style="color: rgb(0\, 0\, 0)\; font-family: Times\; font-size: medium\;"><span style="font-size:14px\;"><span style="font-family:verdana\;"><span style="color:#696969\;"><strong>&middot\; Create a resource for employees aligned with topics discussed.</strong></span></span></span></p>\n\n<p style="color: rgb(0\, 0\, 0)\; font-family: Times\; font-size: medium\;"><span style="font-size:14px\;"><span style="font-family:verdana\;"><span style="color:#696969\;"><strong>&middot\; Measure impact of listening labs.</strong></span></span></span></p>\n</div>\n</div>\n<scribe-shadow data-crx="okfkdaglfjjjfefdcppliegebpoegaii" id="crxjs-ext" style="position: fixed\; width: 0px\; height: 0px\; top: 0px\; left: 0px\; z-index: 2147483647\; overflow: visible\; visibility: visible\;"></scribe-shadow>
LOCATION:Same Zoom Every Month https://us02web.zoom.us/meeting/register/tZYqf-msqjwiE9TJpxYNGLPuoTjzBG1SiqYe#/registration Meeting ID: 827 8044 7890
UID:e.2195.8338
SEQUENCE:3
DTSTAMP:20260424T175421Z
URL:https://business.thinkplexus.org/events/details/erg-council-leveraging-listening-labs-with-giant-eagle-8338
END:VEVENT

END:VCALENDAR
