BEGIN:VCALENDAR
VERSION:2.0
PRODID:-//ChamberMaster//Event Calendar 2.0//EN
METHOD:PUBLISH
X-PUBLISHED-TTL:P3D
REFRESH-INTERVAL:P3D
CALSCALE:GREGORIAN
BEGIN:VEVENT
DTSTART:20250813T193000Z
DTEND:20250813T210000Z
X-MICROSOFT-CDO-ALLDAYEVENT:FALSE
SUMMARY:ERG Council: Innovation: How Structure and Process Turn Ideas into Value
DESCRIPTION:Innovation is often thought of as a very free-form activity of creative exploration\, accompanied by open-concept offices\, free food\, and of course\, sticky notes and white boards. While it's true that all of these things help get new ideas flowing\, turning that ideation into innovation is all about structure\, process\, and intentionality\; we must prepare the soil before we sow the seeds. Together\, we'll discuss some useful frameworks for innovation that you can use to transform your business\, or just boost your own everyday problem-solving and decision-making.\n\n \n\nAbout the Presenter: Ross Widenor  is a PMP-certified consultant with 12 years of corporate experience in R&D\, Innovation\, Strategic Planning\, and Sustainability. He helps organizations of all sizes create new ideas\, implement initiatives\, and improve processes. Learn more and reach out for a free discovery conversation at https://www.widenorconsulting.com/.
X-ALT-DESC;FMTTYPE=text/html:<div data-end="150" data-start="76">\n<div color:="" font-feature-settings:="" font-kerning:="" font-optical-sizing:="" font-size-adjust:="" font-variation-settings:="" helvetica="" margin:="" padding:="" segoe="" ui="" vertical-align:="" web="" west=""><span style="color:#696969\;"><strong><span style="font-family:verdana\;"><span style="font-size:14px\;">Innovation is often thought of as a very free-form activity of creative exploration\, accompanied by open-concept offices\, free food\, and of course\, sticky notes and white boards. While it&#39\;s true that all of these things help get new ideas flowing\, turning that ideation into innovation is all about structure\, process\, and intentionality\; we must prepare the soil before we sow the seeds. Together\, we&#39\;ll discuss some useful frameworks for innovation that you can use to transform your business\, or just boost your own everyday problem-solving and decision-making.</span></span></strong></span></div>\n\n<div color:="" font-feature-settings:="" font-kerning:="" font-optical-sizing:="" font-size-adjust:="" font-variation-settings:="" helvetica="" margin:="" padding:="" segoe="" ui="" vertical-align:="" web="" west="">&nbsp\;</div>\n\n<div color:="" font-feature-settings:="" font-kerning:="" font-optical-sizing:="" font-size-adjust:="" font-variation-settings:="" helvetica="" margin:="" padding:="" segoe="" ui="" vertical-align:="" web="" west=""><strong><span style="font-family:verdana\;"><span style="font-size:14px\;"><span style="color:#696969\;">About the Presenter:&nbsp\;Ross&nbsp\;Widenor&nbsp\; is a PMP-certified consultant with 12 years of corporate experience in R&amp\;D\, Innovation\, Strategic Planning\, and Sustainability. He helps organizations of all sizes create new ideas\, implement initiatives\, and improve processes. Learn more and reach out for a free discovery conversation at&nbsp\;</span><a data-auth="NotApplicable" href="https://nam02.safelinks.protection.outlook.com/?url=https%3A%2F%2Fwww.widenorconsulting.com%2F&amp\;data=05%7C02%7Cjbosco%40thinkplexus.org%7Caf16ea54e46b440921e908ddc08e43a9%7C1a12925221cd41ce8979185a495a1895%7C0%7C0%7C638878439458476164%7CUnknown%7CTWFpbGZsb3d8eyJFbXB0eU1hcGkiOnRydWUsIlYiOiIwLjAuMDAwMCIsIlAiOiJXaW4zMiIsIkFOIjoiTWFpbCIsIldUIjoyfQ%3D%3D%7C0%7C%7C%7C&amp\;sdata=ht9Ihzur9lXz0KB%2B1fbdOvDumdpvvx%2F2lWyU0mR%2B1Jg%3D&amp\;reserved=0" originalsrc="https://www.widenorconsulting.com/" rel="noopener noreferrer" target="_blank" title="Original URL: https://www.widenorconsulting.com/. Click or tap if you trust this link."><span style="color:#696969\;">https://www.widenorconsulting.com/</span></a><span style="color:#696969\;">.</span></span></span></strong></div>\n</div>\n<scribe-shadow id="crxjs-ext" style="position: fixed\; width: 0px\; height: 0px\; top: 0px\; left: 0px\; z-index: 2147483647\; overflow: visible\; visibility: visible\;"></scribe-shadow>
LOCATION:Same Zoom Every Month https://us02web.zoom.us/meeting/register/tZYqf-msqjwiE9TJpxYNGLPuoTjzBG1SiqYe#/registration
UID:e.2195.7530
SEQUENCE:3
DTSTAMP:20260425T031420Z
URL:https://business.thinkplexus.org/events/details/erg-council-innovation-how-structure-and-process-turn-ideas-into-value-7530
END:VEVENT

END:VCALENDAR
