BEGIN:VCALENDAR
VERSION:2.0
PRODID:-//ChamberMaster//Event Calendar 2.0//EN
METHOD:PUBLISH
X-PUBLISHED-TTL:P3D
REFRESH-INTERVAL:P3D
CALSCALE:GREGORIAN
BEGIN:VEVENT
DTSTART:20251210T203000Z
DTEND:20251210T220000Z
X-MICROSOFT-CDO-ALLDAYEVENT:FALSE
SUMMARY:ERG Council: Building on Connections & Planning for 2026
DESCRIPTION:In our last meeting for the year\, join us to debrief on the new ideas from the Symposium and how we are applying these to our workplaces for the New Year.\n\n\n\nWe will also announce the 2026 events and topics.
X-ALT-DESC;FMTTYPE=text/html:<div data-end="150" data-start="76">\n<div color:="" font-feature-settings:="" font-kerning:="" font-optical-sizing:="" font-size-adjust:="" font-variation-settings:="" helvetica="" margin:="" padding:="" segoe="" ui="" vertical-align:="" web="" west="">\n<p><span style="font-family:verdana\;"><span style="color:#696969\;"><span style="font-size: 14px\;"><b>In our last meeting for the year\, join us to debrief on the new ideas from the Symposium and how we are applying these to our workplaces for the New Year.</b></span><br />\n<br />\n<strong><span style="font-size: 14px\;">We will also announce the 2026 events and topics.</span></strong></span></span></p>\n</div>\n</div>\n<scribe-shadow data-crx="okfkdaglfjjjfefdcppliegebpoegaii" id="crxjs-ext" style="position: fixed\; width: 0px\; height: 0px\; top: 0px\; left: 0px\; z-index: 2147483647\; overflow: visible\; visibility: visible\;"></scribe-shadow>
LOCATION:Same Zoom Every Month https://us02web.zoom.us/meeting/register/tZYqf-msqjwiE9TJpxYNGLPuoTjzBG1SiqYe#/registration Meeting ID: 827 8044 7890
UID:e.2195.8283
SEQUENCE:3
DTSTAMP:20260424T193038Z
URL:https://business.thinkplexus.org/events/details/erg-council-building-on-connections-planning-for-2026-8283
END:VEVENT

END:VCALENDAR
