BEGIN:VCALENDAR
VERSION:2.0
PRODID:-//ChamberMaster//Event Calendar 2.0//EN
METHOD:PUBLISH
X-PUBLISHED-TTL:P3D
REFRESH-INTERVAL:P3D
CALSCALE:GREGORIAN
BEGIN:VEVENT
DTSTART:20251113T230000Z
DTEND:20251113T233000Z
X-MICROSOFT-CDO-ALLDAYEVENT:FALSE
SUMMARY:Complimentary 30-Minute Yoga Session
DESCRIPTION:A Gift of Calm: Complimentary 30-Minute Trauma-Informed Mind-Body Reset\n\nCarve Your Own Path is offering the gift of wellness to our community with complimentary yoga sessions.\n\nTake a much-needed break for a mini reset on your mat. This affirming and inclusive 30-minute yoga practice is designed to gently help you come back into your body\, offering the energy and focus needed to finish your day strong. Conscious movement and breathwork reduce stress and boost focus.\n\nThis session is accessible to all levels and utilizes a trauma-informed approach in a safe space for the LGBTQIA+ community and allies.\n\nDates & Times Remaining:\n\n\n	\n	Wednesday\, November 13: 6:00 PM - 6:30 PM (Evening Unwind)\n	\n	\n	Thursday\, November 14: 3:30 PM - 4:00 PM (Afternoon Reset)\n	\n\n\nHow to Claim Your Free Spot:\n\n\n	\n	Visit our events page: www.cyopinc.org/events\n	\n	\n	Select the session date you prefer (11/13 or 11/14).\n	\n	\n	Enter coupon code GIFTCALM at checkout to zero out the price and complete your registration.
X-ALT-DESC;FMTTYPE=text/html:<p><span style="font-size:14px\;"><span style="font-family:verdana\;"><span style="color:#696969\;"><strong>A Gift of Calm: Complimentary 30-Minute Trauma-Informed Mind-Body Reset</strong></span></span></span></p>\n\n<p><span style="font-size:14px\;"><span style="font-family:verdana\;"><span style="color:#696969\;">Carve Your Own Path is offering the gift of wellness to our community with complimentary yoga sessions.</span></span></span></p>\n\n<p><span style="font-size:14px\;"><span style="font-family:verdana\;"><span style="color:#696969\;">Take a much-needed break for a mini reset on your mat. This <strong>affirming</strong> and <strong>inclusive</strong> 30-minute yoga practice is designed to gently help you come back into your body\, offering the energy and focus needed to finish your day strong. Conscious movement and breathwork reduce stress and boost focus.</span></span></span></p>\n\n<p><span style="font-size:14px\;"><span style="font-family:verdana\;"><span style="color:#696969\;">This session is accessible to all levels and utilizes a <strong>trauma-informed</strong> approach in a safe space for the <strong>LGBTQIA+ community and allies</strong>.</span></span></span></p>\n\n<p><span style="font-size:14px\;"><span style="font-family:verdana\;"><span style="color:#696969\;"><strong>Dates &amp\; Times Remaining:</strong></span></span></span></p>\n\n<ul>\n	<li>\n	<p><span style="font-size:14px\;"><span style="font-family:verdana\;"><span style="color:#696969\;"><strong>Wednesday\, November 13:</strong> 6:00 PM - 6:30 PM (Evening Unwind)</span></span></span></p>\n	</li>\n	<li>\n	<p><span style="font-size:14px\;"><span style="font-family:verdana\;"><span style="color:#696969\;"><strong>Thursday\, November 14:</strong> 3:30 PM - 4:00 PM (Afternoon Reset)</span></span></span></p>\n	</li>\n</ul>\n\n<p><span style="font-size:14px\;"><span style="font-family:verdana\;"><span style="color:#696969\;"><strong>How to Claim Your Free Spot:</strong></span></span></span></p>\n\n<ol start="1">\n	<li>\n	<p><span style="font-size:14px\;"><span style="font-family:verdana\;"><span style="color:#696969\;">Visit our events page: www.cyopinc.org/events</span></span></span></p>\n	</li>\n	<li>\n	<p><span style="font-size:14px\;"><span style="font-family:verdana\;"><span style="color:#696969\;">Select the session date you prefer (11/13 or 11/14).</span></span></span></p>\n	</li>\n	<li>\n	<p><span style="font-size:14px\;"><span style="font-family:verdana\;"><span style="color:#696969\;">Enter coupon code <strong>GIFTCALM</strong> at checkout to zero out the price and complete your registration.</span></span></span></p>\n	</li>\n</ol>\n
LOCATION:840 Rothrock Road Suite 203 Copley\, OH 44321
UID:e.2195.8286
SEQUENCE:3
DTSTAMP:20260424T210750Z
URL:https://business.thinkplexus.org/events/details/complimentary-30-minute-yoga-session-8286
END:VEVENT

END:VCALENDAR
