BEGIN:VCALENDAR
VERSION:2.0
PRODID:-//ChamberMaster//Event Calendar 2.0//EN
METHOD:PUBLISH
X-PUBLISHED-TTL:P3D
REFRESH-INTERVAL:P3D
CALSCALE:GREGORIAN
BEGIN:VEVENT
DTSTART:20251213T153000Z
DTEND:20251213T170000Z
X-MICROSOFT-CDO-ALLDAYEVENT:FALSE
SUMMARY:Community Art Day - DIY Felt Holiday Cookie Ornaments
DESCRIPTION:Join Carve Your Own Path (CYOP) for a morning of creativity\, community\, and holistic wellness at our Community Art Day! This inclusive event is your perfect opportunity to unwind\, express yourself\, and connect with affirming people\, all while supporting accessible mental health services in your community.\n\n \n\n \n\n \n\n \n\n \n\n \n\nYou have two great options:\n\n\n	\n	Guided Project: Participate in the featured craft DIY Felt Holiday Cookie Ornaments. Looking for a cute\, handmade gift\, a new decoration\, or just a fun holiday craft? Come spend time with friends and other crafty people making these felt cookie ornaments. We will cut\, decorate\, fill\, and sew by hand. All skill levels are welcome! Pre-made templates include a gingerbread\, tree\, heart\, candy cane\, and stocking. The ornaments take about an hour to make.\n	\n	\n	Bring Your Own Craft: Feel free to bring your own personal project to fill your social battery in a supportive\, quiet atmosphere.\n	\n\n\nAll supplies for the guided project are provided. Your attendance helps fund CYOP's mission of providing affirming mental health and wellness care.
X-ALT-DESC;FMTTYPE=text/html:<p><span style="font-size:14px\;"><span style="font-family:verdana\;"><span style="color:#696969\;"><strong>Join Carve Your Own Path (CYOP) for a morning of creativity\, community\, and holistic wellness at our Community Art Day! This inclusive event is your perfect opportunity to unwind\, express yourself\, and connect with affirming people\, all while supporting accessible mental health services in your community.</strong></span></span></span></p>\n\n<div>&nbsp\;</div>\n\n<div>&nbsp\;</div>\n\n<div>&nbsp\;</div>\n\n<div>&nbsp\;</div>\n\n<div>&nbsp\;</div>\n\n<p>&nbsp\;</p>\n\n<p><span style="font-size:14px\;"><span style="font-family:verdana\;"><span style="color:#696969\;"><strong>You have two great options:</strong></span></span></span></p>\n\n<ol start="1">\n	<li>\n	<p><span style="font-size:14px\;"><span style="font-family:verdana\;"><span style="color:#696969\;"><strong>Guided Project: Participate in the featured craft&mdash\;DIY Felt Holiday Cookie Ornaments. Looking for a cute\, handmade gift\, a new decoration\, or just a fun holiday craft? Come spend time with friends and other crafty people making these felt cookie ornaments. We will cut\, decorate\, fill\, and sew by hand. All skill levels are welcome! Pre-made templates include a gingerbread\, tree\, heart\, candy cane\, and stocking. The ornaments take about an hour to make.</strong></span></span></span></p>\n	</li>\n	<li>\n	<p><span style="font-size:14px\;"><span style="font-family:verdana\;"><span style="color:#696969\;"><strong>Bring Your Own Craft: Feel free to bring your own personal project to fill your social battery in a supportive\, quiet atmosphere.</strong></span></span></span></p>\n	</li>\n</ol>\n\n<p><span style="font-size:14px\;"><span style="font-family:verdana\;"><span style="color:#696969\;"><strong>All supplies for the guided project are provided. Your attendance helps fund CYOP&rsquo\;s mission of providing affirming mental health and wellness care.</strong></span></span></span></p>\n
LOCATION:Carve Your Own Path 840 Rothrock Road Suite 203 Copley\, OH 44321
UID:e.2195.8284
SEQUENCE:3
DTSTAMP:20260424T193029Z
URL:https://business.thinkplexus.org/events/details/community-art-day-diy-felt-holiday-cookie-ornaments-8284
END:VEVENT

END:VCALENDAR
