BEGIN:VCALENDAR
VERSION:2.0
PRODID:-//ChamberMaster//Event Calendar 2.0//EN
METHOD:PUBLISH
X-PUBLISHED-TTL:P3D
REFRESH-INTERVAL:P3D
CALSCALE:GREGORIAN
BEGIN:VEVENT
DTSTART:20250925T210000Z
DTEND:20250925T230000Z
X-MICROSOFT-CDO-ALLDAYEVENT:FALSE
SUMMARY:Cleveland's Leading Ladies Panel Discussion
DESCRIPTION:Join the Cleveland Professional Twenty-Thirty Club for an evening celebrating extraordinary women who are shaping the future of Cleveland. Cleveland's Leading Ladies brings together a dynamic panel of executives\, entrepreneurs\, and changemakers who will share their stories\, challenges\, and successes as leaders in our community.\n\nHosted in partnership with The Cleveland Professional 20/30 Club\, Cleveland Foundation\, and Plexus LGBT + Allied Chamber of Commerce\, this event is designed to inspire and empower while also creating space for authentic connections across industries and communities.\n\nPanelists include: \n\n\n	Karen Goff - VP & Dean of Students\, Oberlin College & Conservatory\n	Monica Gustin - Senior Vice President of Business Strategy & Event Operations\, Greater Cleveland Sports Commission\n	Lara Jehi\, MD\, MHCDS - Chief Research Information Officer\, Cleveland Clinic\n	Anne Richards - President & CEO\, Goodwill Industries of Greater Cleveland and East Central Ohio\n\n\nAfter the panel\, continue the conversation just across the street at Black Frog Brewery for a casual happy hour\, sponsored by Cleveland Foundation\, where your first drink is on us. Additional drinks and food menu items will be available for purchase\, if desired. Enjoy a chance to meet new people\, expand your network\, and build lasting relationships.\n\nWhether you're an aspiring leader\, seasoned professional\, or simply looking to be inspired\, Cleveland's Leading Ladies is an evening you won't want to miss.
X-ALT-DESC;FMTTYPE=text/html:<p data-end="535" data-start="241"><span style="color:#696969\;"><strong><span style="font-family:verdana\;"><span style="font-size:14px\;">Join the Cleveland Professional Twenty-Thirty Club for an evening celebrating extraordinary women who are shaping the future of Cleveland.&nbsp\;Cleveland&rsquo\;s Leading Ladies&nbsp\;brings together a dynamic panel of executives\, entrepreneurs\, and changemakers who will share their stories\, challenges\, and successes as leaders in our community.</span></span></strong></span></p>\n\n<p data-end="808" data-start="537"><strong><span style="font-family:verdana\;"><span style="font-size:14px\;"><span style="color:#696969\;">Hosted in partnership with&nbsp\;The Cleveland Professional 20/30 Club\,&nbsp\;</span><a href="https://www.clevelandfoundation.org/" target="_blank"><span style="color:#696969\;">Cleveland Foundation</span></a><span style="color:#696969\;">\, and&nbsp\;</span><a href="https://www.thinkplexus.org/" target="_blank"><span style="color:#696969\;">Plexus LGBT + Allied Chamber of Commerce</span></a><span style="color:#696969\;">\, this event is designed to inspire and empower while also creating space for authentic connections across industries and communities.</span></span></span></strong></p>\n\n<p data-end="808" data-start="537"><span style="color:#696969\;"><strong><span style="font-family:verdana\;"><span style="font-size:14px\;">Panelists include:&nbsp\;</span></span></strong></span></p>\n\n<ul>\n	<li><span style="color:#696969\;"><strong><span style="font-family:verdana\;"><span style="font-size:14px\;">Karen Goff&nbsp\;-&nbsp\;VP &amp\; Dean of Students\, Oberlin College &amp\; Conservatory</span></span></strong></span></li>\n	<li><span style="color:#696969\;"><strong><span style="font-family:verdana\;"><span style="font-size:14px\;">Monica Gustin&nbsp\;-&nbsp\;Senior Vice President of Business Strategy &amp\; Event Operations\, Greater Cleveland Sports Commission</span></span></strong></span></li>\n	<li><span style="color:#696969\;"><strong><span style="font-family:verdana\;"><span style="font-size:14px\;">Lara Jehi\, MD\, MHCDS&nbsp\;-&nbsp\;Chief Research Information Officer\, Cleveland Clinic</span></span></strong></span></li>\n	<li><span style="color:#696969\;"><strong><span style="font-family:verdana\;"><span style="font-size:14px\;">Anne Richards&nbsp\;-&nbsp\;President &amp\; CEO\, Goodwill Industries of Greater Cleveland and East Central Ohio</span></span></strong></span></li>\n</ul>\n\n<p data-end="1013" data-start="810"><strong><span style="font-family:verdana\;"><span style="font-size:14px\;"><span style="color:#696969\;">After the panel\, continue the conversation just across the street at&nbsp\;</span><a href="https://www.blackfrogbrewery.com/" target="_blank"><span style="color:#696969\;">Black Frog Brewery</span></a><span style="color:#696969\;">&nbsp\;for a casual happy hour\, sponsored by Cleveland Foundation\, where your first drink is on us. Additional drinks and&nbsp\;</span><a href="https://order.toasttab.com/online/pearlskitchenmidtown" target="_blank"><span style="color:#696969\;">food menu items</span></a><span style="color:#696969\;">&nbsp\;will be available for purchase\, if desired. Enjoy a chance to meet new people\, expand your network\, and build lasting relationships.</span></span></span></strong></p>\n\n<p data-end="1177" data-start="1015"><span style="color:#696969\;"><strong><span style="font-family:verdana\;"><span style="font-size:14px\;">Whether you&rsquo\;re an aspiring leader\, seasoned professional\, or simply looking to be inspired\,&nbsp\;Cleveland&rsquo\;s Leading Ladies&nbsp\;is an evening you won&rsquo\;t want to miss.</span></span></strong></span></p>\n
LOCATION:The Cleveland Foundation 6601 Euclid Avenue Cleveland\, OH 44103
UID:e.2195.7847
SEQUENCE:3
DTSTAMP:20260425T001035Z
URL:https://business.thinkplexus.org/events/details/cleveland-s-leading-ladies-panel-discussion-7847
END:VEVENT

END:VCALENDAR
