BEGIN:VCALENDAR
VERSION:2.0
PRODID:-//ChamberMaster//Event Calendar 2.0//EN
METHOD:PUBLISH
X-PUBLISHED-TTL:P3D
REFRESH-INTERVAL:P3D
CALSCALE:GREGORIAN
BEGIN:VEVENT
DTSTART:20210218T170000Z
DTEND:20210218T180000Z
X-MICROSOFT-CDO-ALLDAYEVENT:FALSE
SUMMARY:ChambeREADS: Virtual Management
DESCRIPTION:The Unashamed Guide To Virtual Management\n\nwith Author Ben Bisbee\nThe virtual employment and management universe is expanding at a rate no one ever anticipated. Once seen as a daydream scenario for employees facing the day-to-day struggles of working in a cubicle\, high-rise\, or office park\, these days the opportunities for working remotely are more about necessity and organizational survival than just want or demand. So\, as a manager\, where does that leave you? This guide is accessible and fun to read plus you'll get insider tips from the author directly! \n\nThe ChambeREADS program is hosted by a consortium of area Chamber of Commerce. We invite our members and friends to join us on the 3rd Thursday of each month over the lunchtime hour. We will connect virtually to discuss the most relevant articles\, podcasts\, TED Talks\, and books of the year. Topics focus on management tools\, leadership development\, and work-life balance. Geared to the small business owner\, manager\, entrepreneur\, and non-profit professional. Facilitated by local authors\, career coaches\, and subject experts.
X-ALT-DESC;FMTTYPE=text/html:<h4 style="text-align: center\;"><font color="#178dcd" face="verdana"><span style="font-size: 14px\;"><b>The Unashamed Guide To Virtual Management<br />\nwith Author Ben Bisbee</b></span></font></h4>\n<span style="font-size:14px\;"><span style="font-family:verdana\;"><span style="color:#3B3838\;">The virtual employment and management universe is expanding at a rate no one ever anticipated. Once seen as a daydream scenario for employees facing the day-to-day struggles of working in a cubicle\, high-rise\, or office park\, these days the opportunities for working remotely are more about necessity and organizational survival than just want or demand. So\, as a manager\, where does that leave you? This guide is accessible and fun to read plus you&#39\;ll get insider tips from the author directly!&nbsp\;</span></span></span>\n\n<hr /><span style="font-size:14px\;"><span style="font-family:verdana\;">The ChambeREADS program is hosted by a consortium of area Chamber of Commerce.&nbsp\;We invite our members and friends to join us on the 3<sup style="font-family: verdana\;">rd</sup>&nbsp\;Thursday of each month over the lunchtime hour. We will connect virtually to discuss the most relevant articles\, podcasts\, TED Talks\, and books of the year. Topics focus on management tools\, leadership development\, and work-life balance. Geared to the small business owner\, manager\, entrepreneur\, and non-profit professional. Facilitated by local authors\, career coaches\, and subject experts.&nbsp\;</span></span>
LOCATION:
UID:e.2195.1787
SEQUENCE:3
DTSTAMP:20260422T023211Z
URL:https://business.thinkplexus.org/events/details/chambereads-virtual-management-1787
END:VEVENT

END:VCALENDAR
