BEGIN:VCALENDAR
VERSION:2.0
PRODID:-//ChamberMaster//Event Calendar 2.0//EN
METHOD:PUBLISH
X-PUBLISHED-TTL:P3D
REFRESH-INTERVAL:P3D
CALSCALE:GREGORIAN
BEGIN:VEVENT
DTSTART;VALUE=DATE:20260213
DTEND;VALUE=DATE:20260214
TRANSP:TRANSPARENT
X-MICROSOFT-CDO-ALLDAYEVENT:TRUE
SUMMARY:Architecture: From The Ground Up
DESCRIPTION:This group photography exhibition offers current perspectives on architecture\, through the lens of the local artist. Over 40 pieces are on display\, exploring design\, politics\, color and culture. The exhibiting artists are all members of Rust Belt Photo Collective\, a community of regional photographers founded in Cleveland\, Ohio. Architecture: From The Ground Up is curated by Denyce Renee\, June Hund and Jamie Richey. Celebrate this exhibition and its local photographers at an artist reception on Friday\, February 13\, 2026 from 6pm-730pm. Free. \n\n\n\n\nExhibition dates are January 2 - February 27\, 2026. Artist reception date is Friday\, Feb 13\, 6pm-7:30pm.
X-ALT-DESC;FMTTYPE=text/html:<span style="font-size:14px\;"><span style="font-family:verdana\;"><span style="color:#696969\;"><strong><span style="background-color: rgb(245\, 245\, 245)\;">This group photography exhibition offers current perspectives on architecture\, through the lens of the local artist. Over 40 pieces are on display\, exploring design\, politics\, color and culture. The exhibiting artists are all members of Rust Belt Photo Collective\, a community of regional photographers founded in Cleveland\, Ohio. Architecture: From The Ground Up is curated by Denyce Renee\, June Hund and Jamie Richey. Celebrate this exhibition and its local photographers at an artist reception on Friday\, February 13\, 2026 from 6pm-730pm. Free.&nbsp\;</span></strong></span></span></span>\n<div>\n<div>\n<div>\n<div>\n<div><span style="font-size:14px\;"><span style="font-family:verdana\;"><span style="color:#696969\;"><strong>Exhibition dates are January 2 - February 27\, 2026. Artist reception date is Friday\, Feb 13\, 6pm-7:30pm.</strong></span></span></span></div>\n</div>\n</div>\n</div>\n</div>\n\n<div>\n<div>\n<div style="margin-left:19px">\n<div style="margin-right:30px">&nbsp\;</div>\n</div>\n</div>\n</div>\n
LOCATION:17801 Detroit Avenue\, Main Building
UID:e.2195.8385
SEQUENCE:3
DTSTAMP:20260424T173315Z
URL:https://business.thinkplexus.org/events/details/architecture-from-the-ground-up-8385
END:VEVENT

END:VCALENDAR
