BEGIN:VCALENDAR
VERSION:2.0
PRODID:-//ChamberMaster//Event Calendar 2.0//EN
METHOD:PUBLISH
X-PUBLISHED-TTL:P3D
REFRESH-INTERVAL:P3D
CALSCALE:GREGORIAN
BEGIN:VEVENT
DTSTART:20250925T220000Z
DTEND:20250926T000000Z
X-MICROSOFT-CDO-ALLDAYEVENT:FALSE
SUMMARY:A Conversation on Transgender Truth: The Science and The Journey
DESCRIPTION:***\n \n\nDo not miss one of our best educational events yet! BBH Pride is hosting:\n\nA Conversation on Transgender Truth: The Science and The Journey\n\nJoin us to better understand the issues\, challenges and successes along the transition journey. Our transgender friends have never needed understanding more than now\, please attend with an open mind and heart.\n\n\n\n***\n\n\nWe have moved this event to a virtual space\, out of an abundance of caution for our panelists and attendees. \n\n**After registering you will receive instructions for the zoom link.**\n\n\n\n \n\n\n\nThank you for understanding.\n\n\n\n \n\n\n\nConversation led by:\n\n  Local Psychologist specializing in gender non-conforming adults\n\n  MetroHealth Physician practicing Family Medicine and Gender Care\n\n  Akron Children's Hospital Adolescent Medicine Specialist\n\n  Motivational Speaker and Entrepreneur discussing issues within the transgender community\, from a lived experience \n\n \n\nRegistration is mandatory  -- Register today!\n\nhttps://bbhpride.org/pride-events/events/transgender-truth/
X-ALT-DESC;FMTTYPE=text/html:<span style="font-size:12px"><em>***</em></span>\n<div>&nbsp\;</div>\n\n<div><span style="font-size:12px">Do not miss one of our best educational events yet! BBH Pride is hosting:</span></div>\n\n<div><span style="font-size:12px"><strong><em>A Conversation on Transgender Truth: The Science and The Journey</em></strong></span></div>\n\n<div><span style="font-size:12px">Join us to better understand the issues\, challenges and successes along the transition journey. Our transgender friends have never needed understanding more than now\, please attend with an open mind and heart.<br />\n<br />\n<em>***</em></span>\n\n<div>\n<div><em><span style="font-size:12px"><span style="color:var(--primary-text)\; font-family:inherit">We have moved this event to a virtual space\, out of an abundance of caution for our panelists and attendees.&nbsp\;<br />\n**After registering you will receive instructions for the zoom link.**</span></span></em></div>\n</div>\n\n<div>\n<div>&nbsp\;</div>\n</div>\n\n<div>\n<div><em><span style="font-size:12px"><span style="color:var(--primary-text)\; font-family:inherit">Thank you for understanding.</span></span></em></div>\n</div>\n\n<div>\n<div>&nbsp\;</div>\n</div>\n</div>\n\n<div><span style="font-size:12px">Conversation led by:<br />\n&bull\; Local Psychologist specializing in gender non-conforming adults<br />\n&bull\; MetroHealth Physician practicing Family Medicine and Gender Care<br />\n&bull\; Akron Children&rsquo\;s Hospital Adolescent Medicine Specialist<br />\n&bull\; Motivational Speaker and Entrepreneur discussing issues within the transgender community\, from a lived experience&nbsp\;</span></div>\n\n<div>&nbsp\;</div>\n\n<div><span style="font-size:12px"><strong><em>Registration is mandatory&nbsp\;</em>&nbsp\;-- Register today!</strong></span></div>\n\n<div><span style="font-size:12px"><a href="https://bbhpride.org/pride-events/events/transgender-truth/?fbclid=IwZXh0bgNhZW0CMTAAYnJpZBExTjlxZkg0eWJhQkhYY3ZUcgEeB2r3zVvBMULRLjjnx1ZL60JTnltXIfyOUEJQvi5QGZqcbcw1VWf9z7b409s_aem_a_zxlV15pxy3yVz00GnoEA" rel="nofollow noreferrer" style="color: rgb(17\, 85\, 204)\; text-decoration-line: none\; list-style-type: none\; box-sizing: border-box\; background-color: transparent\; outline: currentcolor\; display: inline\; padding-bottom: 0px\; border-top-style: none\; border-bottom-width: 0px\; border-bottom-style: none\; border-top-width: 0px\; margin-bottom: 0px\; margin-top: 0px\; padding-top: 0px\; font-family: system-ui\, -apple-system\, BlinkMacSystemFont\, &quot\;.SFNSText-Regular&quot\;\, sans-serif\;" target="_blank"><strong>https://bbhpride.org/pride-events/events/transgender-truth/</strong></a></span></div>\n\n<div>&nbsp\;</div>\n
LOCATION:Now Virtual ?**After registering you will receive instructions for the zoom link.**
UID:e.2195.7893
SEQUENCE:3
DTSTAMP:20260425T001400Z
URL:https://business.thinkplexus.org/events/details/a-conversation-on-transgender-truth-the-science-and-the-journey-7893
END:VEVENT

END:VCALENDAR
