BEGIN:VCALENDAR
VERSION:2.0
PRODID:-//ChamberMaster//Event Calendar 2.0//EN
METHOD:PUBLISH
X-PUBLISHED-TTL:P3D
REFRESH-INTERVAL:P3D
CALSCALE:GREGORIAN
BEGIN:VEVENT
DTSTART:20251105T143000Z
DTEND:20251106T203000Z
X-MICROSOFT-CDO-ALLDAYEVENT:FALSE
SUMMARY:8th Annual Lead CLE: Professional Development Conference
DESCRIPTION:Lead CLE: Professional Development Conference is a two-day conference dedicated to developing Cleveland's next generation of business and community leaders with engaging workshops taught by some of the region's top experts. With programs specifically designed to help elevate the careers of emerging leaders and professionals\, Lead CLE provides the tools to grow personally and professionally in Cleveland.
X-ALT-DESC;FMTTYPE=text/html:<span style="color:#696969\;"><strong><span style="font-family:verdana\;"><span style="font-size:14px\;">Lead CLE: Professional Development Conference is a two-day conference dedicated to developing Cleveland&rsquo\;s next generation of business and community leaders with engaging workshops taught by some of the region&rsquo\;s top experts. With programs specifically designed to help elevate the careers of emerging leaders and professionals\, Lead CLE provides the tools to grow personally and professionally in Cleveland.</span></span></strong></span>
LOCATION:Cleveland Public Library - Louis Stokes Wing 525 Superior Ave\, Cleveland\, OH 44114
UID:e.2195.8200
SEQUENCE:3
DTSTAMP:20260424T222815Z
URL:https://business.thinkplexus.org/events/details/8th-annual-lead-cle-professional-development-conference-8200
END:VEVENT

END:VCALENDAR
