BEGIN:VCALENDAR
VERSION:2.0
PRODID:-//ChamberMaster//Event Calendar 2.0//EN
METHOD:PUBLISH
X-PUBLISHED-TTL:P3D
REFRESH-INTERVAL:P3D
CALSCALE:GREGORIAN
BEGIN:VEVENT
DTSTART:20250917T123000Z
DTEND:20250917T193000Z
X-MICROSOFT-CDO-ALLDAYEVENT:FALSE
SUMMARY:3rd Annual Develop\, Engage\, Inspire Conference
DESCRIPTION:Engage! Cleveland began its DE&I journey in 2020 with Takeover Tuesday: Band Together CLE\, an initiative that shared stories\, advice\, and resources with emerging professionals. What started as a digital series soon evolved into our Diversity\, Equity\, & Inclusion Conference an all-day event dedicated to exploring the vital role DE&I plays in the workplace and beyond. Today\, this effort continues as the Develop Engage Inspire Conference\, with a renewed focus on building a Cleveland where everyone feels a true sense of belonging.
X-ALT-DESC;FMTTYPE=text/html:<span style="color:#696969\;"><strong><span style="font-family:verdana\;"><span style="font-size:14px\;">Engage! Cleveland began its DE&amp\;I journey in 2020 with Takeover Tuesday: Band Together CLE\, an initiative that shared stories\, advice\, and resources with emerging professionals. What started as a digital series soon evolved into our Diversity\, Equity\, &amp\; Inclusion Conference&mdash\;an all-day event dedicated to exploring the vital role DE&amp\;I plays in the workplace and beyond. Today\, this effort continues as the Develop Engage Inspire Conference\, with a renewed focus on building a Cleveland where everyone feels a true sense of belonging.</span></span></strong></span>
LOCATION:Stillwater Place Cleveland Metroparks Zoo 3900 Wildlife Way\, Cleveland\, OH 44109
UID:e.2195.7844
SEQUENCE:3
DTSTAMP:20260425T000822Z
URL:https://business.thinkplexus.org/events/details/3rd-annual-develop-engage-inspire-conference-7844
END:VEVENT

END:VCALENDAR
