BEGIN:VCALENDAR
VERSION:2.0
PRODID:-//ChamberMaster//Event Calendar 2.0//EN
METHOD:PUBLISH
X-PUBLISHED-TTL:P3D
REFRESH-INTERVAL:P3D
CALSCALE:GREGORIAN
BEGIN:VEVENT
DTSTART:20250918T213000Z
DTEND:20250919T000000Z
X-MICROSOFT-CDO-ALLDAYEVENT:FALSE
SUMMARY:2025 Plexus Open House
DESCRIPTION:You're invited to celebrate the one year anniversary at our office in the Gordon Square Arcade at our annual Plexus Open House!\n\nJoin us in the historic Gordon Square Arcade as we open our doors to the community\, offering a chance to check out how our space has changed over the past year\, connect with our team\, meet fellow Plexus members\, and discover what makes Plexus a vibrant hub for Northeast Ohio's LGBTQ+ allied business community.\n\n\n\nEnjoy complimentary snacks\, desserts\, and libations as you learn about upcoming initiatives and connect with the people who help make our community so special. Whether you're a long-time member or a first time guest\, this will be the place to be on September 18th!
X-ALT-DESC;FMTTYPE=text/html:<div 1em="" century="" color:="" font-feature-settings:="" font-kerning:="" font-optical-sizing:="" font-size-adjust:="" font-variation-settings:="" margin:="" padding:="" vertical-align:=""><span style="color:#ec2091\;"><span style="font-size:14px\;"><span style="font-family:verdana\;"><strong><span id="cke_bm_96S" style="display: none\;">&nbsp\;</span>You&#39\;re invited to celebrate the one year anniversary at our office in the Gordon Square Arcade at our annual Plexus Open House!</strong></span></span></span></div>\n\n<div 1em="" century="" color:="" font-feature-settings:="" font-kerning:="" font-optical-sizing:="" font-size-adjust:="" font-variation-settings:="" margin:="" padding:="" vertical-align:=""><span style="font-size:14px\;"><span style="font-family:verdana\;"><strong><span style="color:#696969\;">Join us in the historic Gordon Square Arcade as we open our doors to the community\, offering a chance to check out how our space has changed over the past year\, connect with our team\, meet fellow Plexus members\, and discover what makes Plexus a vibrant hub for Northeast Ohio&rsquo\;s LGBTQ+ allied business community.</span></strong></span></span></div>\n\n<div 1em="" century="" color:="" font-feature-settings:="" font-kerning:="" font-optical-sizing:="" font-size-adjust:="" font-variation-settings:="" margin:="" padding:="" vertical-align:=""><br />\n<span style="font-size:14px\;"><span style="font-family:verdana\;"><strong><span style="color:#696969\;">Enjoy complimentary snacks\, desserts\, and libations as you learn about upcoming initiatives and connect with the people who help make our community so special. Whether you&#39\;re a long-time member or a first time guest\, this will be the place to be on September 18th!<br />\n<span id="cke_bm_96E" style="display: none\;">&nbsp\;</span></span></strong></span></span></div>\n
LOCATION:Plexus Office at the Gordon Square Arcade 6516 Detroit Avenue\, Suite 9 Cleveland\, OH
UID:e.2195.7532
SEQUENCE:3
DTSTAMP:20260425T000834Z
URL:https://business.thinkplexus.org/events/details/2025-plexus-open-house-7532
END:VEVENT

END:VCALENDAR
