BEGIN:VCALENDAR
VERSION:2.0
PRODID:-//ChamberMaster//Event Calendar 2.0//EN
METHOD:PUBLISH
X-PUBLISHED-TTL:P3D
REFRESH-INTERVAL:P3D
CALSCALE:GREGORIAN
BEGIN:VEVENT
DTSTART:20260807T130000Z
DTEND:20260807T134500Z
X-MICROSOFT-CDO-ALLDAYEVENT:FALSE
SUMMARY:1st Friday Pour Over
DESCRIPTION:Grab your favorite mug and join us for a relaxed and informal Zoom Coffee Hour with the Executive Director and members of the Plexus community. This is the perfect opportunity to connect\, ask questions\, share ideas\, and learn more about what's happening in our chamber. Open to everyone and completely free\, it's a great way to start your day with inspiring conversations and a supportive network.\n\nWe can't wait to see you there!
X-ALT-DESC;FMTTYPE=text/html:<span style="font-size:14px\;"><span style="font-family:verdana\;"><strong><span style="color:#696969\;">Grab your favorite mug and join us for a relaxed and informal Zoom Coffee Hour with the Executive Director and members of the Plexus community. This is the perfect opportunity to connect\, ask questions\, share ideas\, and learn more about what&rsquo\;s happening in our chamber. Open to everyone and completely free\, it&rsquo\;s a great way to start your day with inspiring conversations and a supportive network.</span></strong><br />\n<strong><span style="color:#696969\;">We can&rsquo\;t wait to see you there! &#9749\;</span></strong></span></span>
LOCATION:Same Zoom each month. https://us02web.zoom.us/j/83030708674?pwd=AGZCrTkcqU68ya4cZXn8UcBYgf4Wd8.1 Meeting ID: 830 3070 8674
UID:e.2195.8380
SEQUENCE:3
DTSTAMP:20260424T072945Z
URL:https://business.thinkplexus.org/events/details/1st-friday-pour-over-8380
END:VEVENT

END:VCALENDAR
