BEGIN:VCALENDAR
VERSION:2.0
PRODID:-//ChamberMaster//Event Calendar 2.0//EN
METHOD:PUBLISH
X-PUBLISHED-TTL:P3D
REFRESH-INTERVAL:P3D
CALSCALE:GREGORIAN
BEGIN:VEVENT
DTSTART:20250913T000000Z
DTEND:20250913T030000Z
X-MICROSOFT-CDO-ALLDAYEVENT:FALSE
SUMMARY:10th Annual Drag Pride Showcase
DESCRIPTION:The 10th Annual Drag Pride Showcase will take place on Friday September 12th! Featuring performances from Melissa Ross\, Denise Russell\, Veranda L'Ni\, Sassy Sascha\, Bella Sin\, Ryder Slowly\, Gaia Naturi\, Bram Stroke-Her\, and Ariyah Fuego.
X-ALT-DESC;FMTTYPE=text/html:<font color="#696969" face="verdana"><span style="font-size: 14px\;"><b>The 10th Annual Drag Pride Showcase will take place on Friday September 12th! Featuring performances from Melissa Ross\, Denise Russell\, Veranda L&#39\;Ni\, Sassy Sascha\, Bella Sin\, Ryder Slowly\, Gaia Naturi\, Bram Stroke-Her\, and Ariyah Fuego.</b></span></font>
LOCATION:Beachland Ballroom 15711 Waterloo Road Cleveland\, OH
UID:e.2195.7534
SEQUENCE:3
DTSTAMP:20260425T000950Z
URL:https://business.thinkplexus.org/events/details/10th-annual-drag-pride-showcase-7534
END:VEVENT

END:VCALENDAR
